BEGIN:VCALENDAR
VERSION:2.0
PRODID:-//ChamberMaster//Event Calendar 2.0//EN
METHOD:PUBLISH
X-PUBLISHED-TTL:P3D
REFRESH-INTERVAL:P3D
CALSCALE:GREGORIAN
BEGIN:VEVENT
DTSTART;VALUE=DATE:20110928
DTEND;VALUE=DATE:20110929
TRANSP:TRANSPARENT
X-MICROSOFT-CDO-ALLDAYEVENT:TRUE
SUMMARY:Board of Directors
DESCRIPTION:Please plan to attend the next Board of Directors meeting at 11:45 AM on Wednesday 9/28 at the Home Builders office. Please respond to this message via email or by phone if you plan to attend and would like lunch so I can order the right amount of food. 546-4665 x25. The Executive Committee will meet at 11:15 ahead of the board meeting as usual.\n    \n    At the August Board meeting we discussed candidate interviews and potential support of select candidates. While there is no official endorsement by the HBAGK\, the following candidates were mentioned for consideration:\n    \n    City Council - Seat A\, George Wallace\, phone 414-7102\n    City Council - Seat B\, Bill Owen\, phone 406-9623\n    City Council - Seat C\, Ron Peabody\, phone 560-9600\n    Mayor - Ivan Harmon\, phone 389-5652\n    Mayor - Mark Padgett\, phone 789-9200\n    \n    Thank you
X-ALT-DESC;FMTTYPE=text/html:<p>Please plan to attend the next Board of Directors meeting at 11:45 AM on Wednesday&nbsp\;9/28 at the Home Builders office.</p> <p><strong><span style=font-size: 18px><u>Please respond to this message via email or by phone if you plan to attend and would like lunch so I can order the right amount of food.</u> <u>546-4665 x25.</u></span></strong></p> <p>The <strong>Executive Committee </strong>will meet at 11:15 ahead of the board meeting as usual.<br>    <br>    At the August Board meeting we discussed candidate interviews and potential support of select candidates. While there is no official endorsement by the HBAGK\, the following candidates were mentioned for consideration:<br>    <br>    City Council - Seat A\, George Wallace\, phone 414-7102<br>    City Council - Seat B\, Bill Owen\, phone 406-9623<br>    City Council - Seat C\, Ron Peabody\, phone 560-9600<br>    Mayor - Ivan Harmon\, phone 389-5652<br>    Mayor - Mark Padgett\, phone 789-9200<br>    <br>    Thank you</p>
LOCATION:221 Clark Street\, NW Knoxville\, TN
UID:e.9402.338
SEQUENCE:3
DTSTAMP:20260422T211633Z
URL:http://hbaknoxvilletn.memberzone.com/events/details/board-of-directors-09-28-2011-338
END:VEVENT

END:VCALENDAR
