BEGIN:VCALENDAR
VERSION:2.0
PRODID:-//ChamberMaster//Event Calendar 2.0//EN
METHOD:PUBLISH
X-PUBLISHED-TTL:P3D
REFRESH-INTERVAL:P3D
CALSCALE:GREGORIAN
BEGIN:VEVENT
DTSTART;VALUE=DATE:20130925
DTEND;VALUE=DATE:20130926
TRANSP:TRANSPARENT
X-MICROSOFT-CDO-ALLDAYEVENT:TRUE
SUMMARY:Board of Directors
DESCRIPTION:The next Board of Directors meeting is scheduled for Wednesday\, 9/25 at the HBAGK office. The Board meeting is at 11:45 AM and lunch is available upon request for $8. The EXECUTIVE COMMITTEE will meet at 11:15 prior to the Board meeting.  Please respond if you would like lunch so we can order the right amount of food. (Sandwich or Salad).\n \n At this meeting we welcome special guest Jason Zachary(R)\, US Representative Candidate in 2014\n \n \n Upcoming Meetings:\n October - first three weekends\, Parade of Homes\n October 22-24 - Membership Drive\n November 2 - HBAT Hall of Fame Ceremony for Tim Neal at Meadowview in Kingsport\n November 17 - Membership Meeting at Standard Kitchen & Bath/HomeChoice Windows\n December 5 - Holiday Celebration at the Foundry\n \n \n LOGIN: (You can retrieve your login name & password by clicking the registration link in this message then following the prompt using your email address to have the information sent to you)
X-ALT-DESC;FMTTYPE=text/html:The next Board of Directors meeting is scheduled for Wednesday\, 9/25 at the HBAGK office. The Board meeting is at 11:45 AM and lunch is available upon request for $8.&nbsp\;The EXECUTIVE COMMITTEE will meet at 11:15 prior to the Board meeting.&nbsp\;<u>&nbsp\;Please respond</u> if you would like lunch so we can order the right amount of food. (Sandwich or Salad).<br> <br> <span style=font-size:14px\;><span style=font-family:times new roman\,times\,serif\;>At this meeting we welcome special guest&nbsp\;</span></span><span style=font-family:times new roman\,serif\;><span style=font-size:12.0pt\;><span style=font-size:14px\;><span style=font-family:times new roman\,times\,serif\;>Jason Zachary(R)\, US Representative Candidate in 2014</span></span></span></span><br> <br> <br> <u><strong>Upcoming Meetings:</strong></u><br> October - first three weekends\, Parade of Homes<br> October 22-24 - Membership Drive<br> November 2 - HBAT Hall of Fame Ceremony for Tim Neal at Meadowview in Kingsport<br> November 17 - Membership Meeting at Standard Kitchen &amp\; Bath/HomeChoice Windows<br> December 5 - Holiday Celebration at the Foundry<br> <br> <br> <span style=background-color: #ffff00>LOGIN: (You can retrieve your login name &amp\; password by clicking the registration link in this message then following the prompt using your email address to have the information sent to you)</span><br> <br> <br>
LOCATION:221 Clark Street\, NW Knoxville\, TN
UID:e.9402.554
SEQUENCE:3
DTSTAMP:20260420T161022Z
URL:http://hbaknoxvilletn.memberzone.com/events/details/board-of-directors-09-25-2013-554
END:VEVENT

END:VCALENDAR
