BEGIN:VCALENDAR
VERSION:2.0
PRODID:-//ChamberMaster//Event Calendar 2.0//EN
METHOD:PUBLISH
X-PUBLISHED-TTL:P3D
REFRESH-INTERVAL:P3D
CALSCALE:GREGORIAN
BEGIN:VEVENT
DTSTART;VALUE=DATE:20080916
DTEND;VALUE=DATE:20080917
TRANSP:TRANSPARENT
X-MICROSOFT-CDO-ALLDAYEVENT:TRUE
SUMMARY:Board of Directors
DESCRIPTION:Please plan to attend the Board of Directors meeting next Tuesday\, September 16 at 11:45 a.m. RSVP to let us know if you will and attend and have lunch.
X-ALT-DESC;FMTTYPE=text/html:<p>Please plan to attend the Board of Directors meeting next Tuesday\,&nbsp\;September&nbsp\;16&nbsp\;at 11:45 a.m. RSVP to let us know if you will and attend and have lunch.</p>
LOCATION:221 Clark St\, NW Knoxville\, TN
UID:e.9402.132
SEQUENCE:3
DTSTAMP:20260426T023101Z
URL:http://hbaknoxvilletn.memberzone.com/events/details/board-of-directors-09-16-2008-132
END:VEVENT

END:VCALENDAR
