BEGIN:VCALENDAR
VERSION:2.0
PRODID:-//ChamberMaster//Event Calendar 2.0//EN
METHOD:PUBLISH
X-PUBLISHED-TTL:P3D
REFRESH-INTERVAL:P3D
CALSCALE:GREGORIAN
BEGIN:VEVENT
DTSTART;VALUE=DATE:20110824
DTEND;VALUE=DATE:20110825
TRANSP:TRANSPARENT
X-MICROSOFT-CDO-ALLDAYEVENT:TRUE
SUMMARY:Board of Directors
DESCRIPTION:Please plan to attend the next Board of Directors meeting at 11:45 AM on Wednesday 8/24 at the Home Builders office. Please respond to this message via email or by phone if you plan to attend and would like lunch so I can order the right amount of food. 546-4665 x25. The Executive Committee will meet at 11:15 ahead of the board meeting as usual. We also need ALL Board of Director members to sign up for the presentation by Market Graphics at 4:30 PM\, Monday\, September 12 at Rothchild Catering. Cost is only $5 per person for this important meeting. Please bring employees and invite business partners and anyone else in our industry to attend. Thank you.
X-ALT-DESC;FMTTYPE=text/html:<p>Please plan to attend the next Board of Directors meeting at 11:45 AM on Wednesday&nbsp\;8/24 at the Home Builders office.</p> <p><strong><span style=font-size: 18px><u>Please respond to this message via email or by phone if you plan to attend and would like lunch so I can order the right amount of food.</u> <u>546-4665 x25.</u></span></strong></p> <p>The <strong>Executive Committee </strong>will meet at 11:15 ahead of the board meeting as usual.</p> <p>We also need ALL Board of Director members to sign up for the presentation by Market Graphics at 4:30 PM\, Monday\, September 12 at Rothchild Catering. Cost is only $5 per person for this important meeting. Please bring employees and invite business partners and anyone else in our industry to attend.</p> <p>Thank you.</p>
LOCATION:221 Clark Street\, NW Knoxville\, TN
UID:e.9402.330
SEQUENCE:3
DTSTAMP:20260422T223949Z
URL:http://hbaknoxvilletn.memberzone.com/events/details/board-of-directors-08-24-2011-330
END:VEVENT

END:VCALENDAR
