BEGIN:VCALENDAR
VERSION:2.0
PRODID:-//ChamberMaster//Event Calendar 2.0//EN
METHOD:PUBLISH
X-PUBLISHED-TTL:P3D
REFRESH-INTERVAL:P3D
CALSCALE:GREGORIAN
BEGIN:VEVENT
DTSTART;VALUE=DATE:20130724
DTEND;VALUE=DATE:20130725
TRANSP:TRANSPARENT
X-MICROSOFT-CDO-ALLDAYEVENT:TRUE
SUMMARY:Board of Directors
DESCRIPTION:The next Board of Directors meeting is scheduled for Wednesday\, 7/24 at the HBAGK office. The Board meeting is at 11:45 AM and lunch is available upon request for $8. The EXECUTIVE COMMITTEE will meet at 11:15 prior to the Board meeting.  Please respond if you would like lunch so we can order the right amount of food. (Sandwich or Salad).\n \n At this meeting we welcome special guest and 2014 US Senate Candidate\, Brenda Lenard. Visit www.brendalenard.com to learn more about Mrs. Lenard and her campaign.\n \n Upcoming Meetings:\n 7/30 - Parade of Homes Committee\n 8/2 - FINAL Entry Deadline for Parade of Homes\n 8/6 - Holiday Celebration Committee\n 8/21 - Membership Committee\n 8/22 - General Membership Meeting\, location TBD *new date*\n 9/18 - Meet the Candidates at Calhoun's on the River\n October - first three weekends\, Parade of Homes\n 10/17 - Membership Meeting at Standard Kitchen & Bath/HomeChoice Windows\n \n \n LOGIN: (You can retrieve your login name & password by clicking the registration link in this message then following the prompt using your email address to have the information sent to you)
X-ALT-DESC;FMTTYPE=text/html:The next Board of Directors meeting is scheduled for Wednesday\, 7/24 at the HBAGK office. The Board meeting is at 11:45 AM and lunch is available upon request for $8.&nbsp\;The EXECUTIVE COMMITTEE will meet at 11:15 prior to the Board meeting.&nbsp\;<u>&nbsp\;Please respond</u> if you would like lunch so we can order the right amount of food. (Sandwich or Salad).<br> <br> <strong>At this meeting we welcome special guest and 2014 US Senate Candidate\, Brenda Lenard. Visit www.brendalenard.com to learn more about Mrs. Lenard and her campaign.</strong><br> <br> <u><strong>Upcoming Meetings:</strong></u><br> 7/30 - Parade of Homes Committee<br> 8/2 - FINAL Entry Deadline for Parade of Homes<br> 8/6 - Holiday Celebration Committee<br> 8/21 - Membership Committee<br> 8/22 - General Membership Meeting\, location TBD *new date*<br> 9/18 - Meet the Candidates at Calhoun&#39\;s on the River<br> October - first three weekends\, Parade of Homes<br> 10/17 - Membership Meeting at Standard Kitchen &amp\; Bath/HomeChoice Windows<br> <br> <br> <span style=background-color: #ffff00>LOGIN: (You can retrieve your login name &amp\; password by clicking the registration link in this message then following the prompt using your email address to have the information sent to you)</span><br> <br> <br>
LOCATION:221 Clark Street\, NW Knoxville\, TN
UID:e.9402.534
SEQUENCE:3
DTSTAMP:20260420T193712Z
URL:http://hbaknoxvilletn.memberzone.com/events/details/board-of-directors-07-24-2013-534
END:VEVENT

END:VCALENDAR
