BEGIN:VCALENDAR
VERSION:2.0
PRODID:-//ChamberMaster//Event Calendar 2.0//EN
METHOD:PUBLISH
X-PUBLISHED-TTL:P3D
REFRESH-INTERVAL:P3D
CALSCALE:GREGORIAN
BEGIN:VEVENT
DTSTART;VALUE=DATE:20110622
DTEND;VALUE=DATE:20110623
TRANSP:TRANSPARENT
X-MICROSOFT-CDO-ALLDAYEVENT:TRUE
SUMMARY:Board of Directors
DESCRIPTION:Please plan to attend the next Board of Directors meeting at 11:45 AM on Wednesday 6/22 at the Home Builders office. Please respond and let me know if you would like lunch so I can order the right amount of food. The Executive Committee will meet at 11:15 ahead of the board meeting as usual. Thank you
X-ALT-DESC;FMTTYPE=text/html:<p>Please plan to attend the next Board of Directors meeting at 11:45 AM on Wednesday&nbsp\;6/22 at the Home Builders office. <u>Please respond and let me know if you would like lunch so I can order the right amount of food.</u> The Executive Committee will meet at 11:15 ahead of the board meeting as usual.</p> <p>Thank you</p>
LOCATION:221 Clark Street\, NW Knoxville\, TN
UID:e.9402.310
SEQUENCE:3
DTSTAMP:20260423T080855Z
URL:http://hbaknoxvilletn.memberzone.com/events/details/board-of-directors-06-22-2011-310
END:VEVENT

END:VCALENDAR
