BEGIN:VCALENDAR
VERSION:2.0
PRODID:-//ChamberMaster//Event Calendar 2.0//EN
METHOD:PUBLISH
X-PUBLISHED-TTL:P3D
REFRESH-INTERVAL:P3D
CALSCALE:GREGORIAN
BEGIN:VEVENT
DTSTART;VALUE=DATE:20120523
DTEND;VALUE=DATE:20120524
TRANSP:TRANSPARENT
X-MICROSOFT-CDO-ALLDAYEVENT:TRUE
SUMMARY:Board of Directors
DESCRIPTION:Please join us for the Board of Directors meeting on Wednesday\, 5/23/12 at the HBAGK office. The Board meeting is at 11:45 AM and lunch is available upon request for $8. RSVP so we can orderthe proper amount of food. We will have two special guests from the Knoxville Chamber and Knox County present at the start of the board meeting to deliver a brief outline of their position for the proposed Knox Co. School budget.\n     Special Guests discussing Knox County School budget                 Jennifer Evans\, Knoxville Chamber\, VP Workforce and Education          Chris Caldwell\, Knox County Finance Department\, Interim Director             The Executive Committee will meet at 11:15 AM prior to the Board meeting.\n \n (Hint\, you can retrieve your login name & password by clicking the registration link in this message then following the prompt using your email address to have the information sent to you)
X-ALT-DESC;FMTTYPE=text/html:Please join us for the Board of Directors meeting on Wednesday\, 5/23/12 at the HBAGK office. The Board meeting is at 11:45 AM and lunch is available upon request for $8. RSVP so we can orderthe proper amount of food. We will have&nbsp\;two special guests from the Knoxville Chamber and Knox County present at the start of the board meeting to deliver a brief outline of their position for the proposed Knox Co. School budget.<br> <ol style=list-style-type: upper-roman>    <li><span style=font-size: medium>Special Guests discussing Knox County School budget</span>       <ol style=list-style-type: lower-alpha>          <li><span style=font-size: medium>Jennifer Evans\, Knoxville Chamber\, VP Workforce and Education</span></li>          <li><span style=font-size: medium>Chris Caldwell\, Knox County Finance Department\, Interim Director</span></li>       </ol>    </li> </ol> The <strong>Executive Committee</strong> will meet at 11:15 AM prior to the Board meeting.<br> <br> <span style=background-color: #ffff00><strong>(Hint\, you can retrieve your login name &amp\; password by clicking the registration link in this message then following the prompt using your email address to have the information sent to you)</strong></span><br> <br>
LOCATION:221 Clark Street\, NW Knoxville\, TN
UID:e.9402.418
SEQUENCE:3
DTSTAMP:20260422T023938Z
URL:http://hbaknoxvilletn.memberzone.com/events/details/board-of-directors-05-23-2012-418
END:VEVENT

END:VCALENDAR
