BEGIN:VCALENDAR
VERSION:2.0
PRODID:-//ChamberMaster//Event Calendar 2.0//EN
METHOD:PUBLISH
X-PUBLISHED-TTL:P3D
REFRESH-INTERVAL:P3D
CALSCALE:GREGORIAN
BEGIN:VEVENT
DTSTART;VALUE=DATE:20130522
DTEND;VALUE=DATE:20130523
TRANSP:TRANSPARENT
X-MICROSOFT-CDO-ALLDAYEVENT:TRUE
SUMMARY:Board of Directors
DESCRIPTION:The next Board of Directors meeting is scheduled for Wednesday\, 5/22 at the HBAGK office. The Board meeting is at 11:45 AM and lunch is available upon request for $8.\n \n The EXECUTIVE COMMITTEE will meet at 11:15 prior to the Board meeting.  Please respond if you would like lunch so we can order the right amount of food. (Sandwich or Salad)\n \n Upcoming Meetings:\n \n \n 5/22 - Board of Directors\n 5/27 - Memorial Day\, Office Closed\n 6/3 - Regular Entry Deadline for Parade of Homes (final entry August 1)\n 6/4 - 6/9 - NAHB Spring Board meeting\, Washington DC\n 6/6 - NACM Seminar at Knoxville Expo Center\n 6/13 - Golf Tournament at Egwani Farms\n 6/22 - 6/26 - HBAT Summer Board meeting\, Cancun\n 7//4 - Independence Day\n \n \n LOGIN: (You can retrieve your login name & password by clicking the registration link in this message then following the prompt using your email address to have the information sent to you)
X-ALT-DESC;FMTTYPE=text/html:The next Board of Directors meeting is scheduled for Wednesday\, 5/22 at the HBAGK office. The Board meeting is at 11:45 AM and lunch is available upon request for $8.<br> <br> The EXECUTIVE COMMITTEE will meet at 11:15 prior to the Board meeting.&nbsp\;&nbsp\;Please respond if you would like lunch so we can order the right amount of food. (Sandwich or Salad)<br> <br> <u><strong>Upcoming Meetings:</strong></u><br> <br> <br> 5/22 - Board of Directors<br> 5/27 - Memorial Day\, Office Closed<br> 6/3 - Regular Entry Deadline for Parade of Homes (final entry August 1)<br> 6/4 - 6/9 - NAHB Spring Board meeting\, Washington DC<br> 6/6 - NACM Seminar at Knoxville Expo Center<br> 6/13 - Golf Tournament at Egwani Farms<br> 6/22 - 6/26 - HBAT Summer Board meeting\, Cancun<br> 7//4 - Independence Day<br> <br> <br> <span style=background-color: #ffff00>LOGIN: (You can retrieve your login name &amp\; password by clicking the registration link in this message then following the prompt using your email address to have the information sent to you)</span><br> <br> <br>
LOCATION:221 Clark Street\, NW Knoxville\, TN
UID:e.9402.517
SEQUENCE:3
DTSTAMP:20260420T230839Z
URL:http://hbaknoxvilletn.memberzone.com/events/details/board-of-directors-05-22-2013-517
END:VEVENT

END:VCALENDAR
