BEGIN:VCALENDAR
VERSION:2.0
PRODID:-//ChamberMaster//Event Calendar 2.0//EN
METHOD:PUBLISH
X-PUBLISHED-TTL:P3D
REFRESH-INTERVAL:P3D
CALSCALE:GREGORIAN
BEGIN:VEVENT
DTSTART;VALUE=DATE:20140326
DTEND;VALUE=DATE:20140327
TRANSP:TRANSPARENT
X-MICROSOFT-CDO-ALLDAYEVENT:TRUE
SUMMARY:Board of Directors
DESCRIPTION:Home Builders' Board of Directors will meet Wednesday\, 3/26/14 at 11:45 AM at the HBAGK office. The Executive Committee will meet at 11:15 AM as usual. The Budget & Finance Committee meets at 10:30 AM.\nLunch is available for $8\, please RSVP to let us know if you would like a sandwich or salad so we can order the right amount of food. If you have questions or need anything please call or email the office.\nFuture Board meeting dates:May 28July 23September 24November 26* (Subject to change\, holiday)\n\n             First   Name   Last Name   Company Name   Title/Position       Blane   Chrisman   Radius Homes   President       Brian   Shugart   Landmark Real Estate   Company   Vice President       Julie   DuPree    DuPree-Graf   Construction\, LLC   Secretary Treasurer       Larry   Jackson   ORNL Federal Credit   Union   Associate Vice   President       Scott   Davis   Eagle Bend   Development   Immediate Past   President       Rick   Harbin   Construction   Development Services   2013-2014       Chris   Knight   William Knight   Insurance Agency\, Inc.   2013-2014       Travis   Lewelling   Lewelling Excavating\,   LLC   2013-2014       Dennis   Sewell   Fireside Hearth &   Home   2013-2014\n       Alan\nBayless   Van Why\nBiles\n   Noble Knights CSI\nBiles Construction   2013-2014\n2014-2015       Scott   Brockamp   His Security\, LLC   2014-2015       John   Cook   Cook Bros.   Construction\, LLC   2014-2015       Chris   Folden   Folden Construction\,   LLC   2014-2015       Brian   Forward   ProBuild East LLC   2014-2015       Abe   Draper   Fairfax Development   Inc   Past President       Randall   Heiden   Lake Forest   Construction & Development   Past President       Timothy   Neal    Fairfax Development   Inc   Past President       Earl   Sharp   The Sharp Companies\,   Inc.   Past President       Mike   Stevens   Mike Stevens Homes\,   Inc.   Past President       Doyle   Webb    H. Doyle Webb   Contractors   Past President       Ed   Zarb   Zarb Homes   Past President
X-ALT-DESC;FMTTYPE=text/html:Home Builders' Board of Directors will meet Wednesday\, 3/26/14 at 11:45 AM at the HBAGK office.&nbsp\;<span style=line-height: 1.428571429\;>The Executive Committee will meet at 11:15 AM as usual. The Budget &amp\; Finance Committee meets at 10:30 AM.</span><div><span style=line-height: 1.428571429\;><br></span></div><div><span style=line-height: 1.428571429\;>Lunch is available for $8\, please RSVP to let us know if you would like a sandwich or salad so we can order the right amount of food. If you have questions or need anything please call or email the office.</span></div><div><br></div><div><span style=font-weight: bold\;>Future Board meeting dates:</span></div><div>May 28</div><div>July 23</div><div>September 24</div><div>November 26* (Subject to change\, holiday)<br><div><div><br></div><div><table border=0 cellpadding=0 cellspacing=0 width=679 style=width: 510pt\;>  <colgroup><col width=75 style=mso-width-source:userset\;mso-width-alt:2742\;width:56pt>  <col width=162 style=mso-width-source:userset\;mso-width-alt:5924\;width:122pt>  <col width=282 style=mso-width-source:userset\;mso-width-alt:10313\;width:212pt>  <col width=160 style=mso-width-source:userset\;mso-width-alt:5851\;width:120pt>  </colgroup><tbody><tr height=17 style=height:12.75pt>   <td height=17 class=xl63 width=75 style=height:12.75pt\;width:56pt><span style=font-weight: bold\;>First   Name</span></td>   <td class=xl63 width=162 style=border-left:none\;width:122pt><span style=font-weight: bold\;>Last Name</span></td>   <td class=xl63 width=282 style=border-left:none\;width:212pt><span style=font-weight: bold\;>Company Name</span></td>   <td class=xl63 width=160 style=border-left:none\;width:120pt><span style=font-weight: bold\;>Title/Position</span></td>  </tr>  <tr height=17 style=height:12.75pt>   <td height=17 class=xl64 style=height:12.75pt\;border-top:none>Blane</td>   <td class=xl64 style=border-top:none\;border-left:none>Chrisman</td>   <td class=xl64 style=border-top:none\;border-left:none>Radius Homes</td>   <td class=xl64 style=border-top:none\;border-left:none>President</td>  </tr>  <tr height=17 style=height:12.75pt>   <td height=17 class=xl64 style=height:12.75pt\;border-top:none>Brian</td>   <td class=xl64 style=border-top:none\;border-left:none>Shugart</td>   <td class=xl64 style=border-top:none\;border-left:none>Landmark Real Estate   Company</td>   <td class=xl64 style=border-top:none\;border-left:none>Vice President</td>  </tr>  <tr height=17 style=height:12.75pt>   <td height=17 class=xl64 style=height:12.75pt\;border-top:none>Julie</td>   <td class=xl64 style=border-top:none\;border-left:none>DuPree&nbsp\;</td>   <td class=xl64 style=border-top:none\;border-left:none>DuPree-Graf   Construction\, LLC</td>   <td class=xl64 style=border-top:none\;border-left:none>Secretary Treasurer</td>  </tr>  <tr height=17 style=height:12.75pt>   <td height=17 class=xl64 style=height:12.75pt\;border-top:none>Larry</td>   <td class=xl64 style=border-top:none\;border-left:none>Jackson</td>   <td class=xl64 style=border-top:none\;border-left:none>ORNL Federal Credit   Union</td>   <td class=xl65 style=border-top:none\;border-left:none>Associate Vice   President</td>  </tr>  <tr height=17 style=height:12.75pt>   <td height=17 class=xl64 style=height:12.75pt\;border-top:none>Scott</td>   <td class=xl64 style=border-top:none\;border-left:none>Davis</td>   <td class=xl64 style=border-top:none\;border-left:none>Eagle Bend   Development</td>   <td class=xl64 style=border-top:none\;border-left:none>Immediate Past   President</td>  </tr>  <tr height=17 style=height:12.75pt>   <td height=17 class=xl64 style=height:12.75pt\;border-top:none>Rick</td>   <td class=xl64 style=border-top:none\;border-left:none>Harbin</td>   <td class=xl64 style=border-top:none\;border-left:none>Construction   Development Services</td>   <td class=xl64 style=border-top:none\;border-left:none>2013-2014</td>  </tr>  <tr height=17 style=height:12.75pt>   <td height=17 class=xl64 style=height:12.75pt\;border-top:none>Chris</td>   <td class=xl64 style=border-top:none\;border-left:none>Knight</td>   <td class=xl64 style=border-top:none\;border-left:none>William Knight   Insurance Agency\, Inc.</td>   <td class=xl64 style=border-top:none\;border-left:none>2013-2014</td>  </tr>  <tr height=17 style=height:12.75pt>   <td height=17 class=xl64 style=height:12.75pt\;border-top:none>Travis</td>   <td class=xl64 style=border-top:none\;border-left:none>Lewelling</td>   <td class=xl64 style=border-top:none\;border-left:none>Lewelling Excavating\,   LLC</td>   <td class=xl64 style=border-top:none\;border-left:none>2013-2014</td>  </tr>  <tr height=17 style=height:12.75pt>   <td height=17 class=xl64 style=height:12.75pt\;border-top:none>Dennis</td>   <td class=xl64 style=border-top:none\;border-left:none>Sewell</td>   <td class=xl64 style=border-top:none\;border-left:none>Fireside Hearth &amp\;   Home</td>   <td class=xl64 style=border-top:none\;border-left:none>2013-2014<br></td>  </tr>  <tr height=17 style=height:12.75pt>   <td height=17 class=xl64 style=height:12.75pt\;border-top:none>Alan<br>Bayless</td>   <td class=xl64 style=border-top:none\;border-left:none>Van Why<br>Biles<br></td>   <td class=xl64 style=border-top:none\;border-left:none>Noble Knights CSI<br>Biles Construction</td>   <td class=xl64 style=border-top:none\;border-left:none>2013-2014<br>2014-2015</td>  </tr>  <tr height=17 style=height:12.75pt>   <td height=17 class=xl64 style=height:12.75pt\;border-top:none>Scott</td>   <td class=xl64 style=border-top:none\;border-left:none>Brockamp</td>   <td class=xl64 style=border-top:none\;border-left:none>His Security\, LLC</td>   <td class=xl64 style=border-top:none\;border-left:none>2014-2015</td>  </tr>  <tr height=17 style=height:12.75pt>   <td height=17 class=xl64 style=height:12.75pt\;border-top:none>John</td>   <td class=xl64 style=border-top:none\;border-left:none>Cook</td>   <td class=xl64 style=border-top:none\;border-left:none>Cook Bros.   Construction\, LLC</td>   <td class=xl64 style=border-top:none\;border-left:none>2014-2015</td>  </tr>  <tr height=17 style=height:12.75pt>   <td height=17 class=xl64 style=height:12.75pt\;border-top:none>Chris</td>   <td class=xl64 style=border-top:none\;border-left:none>Folden</td>   <td class=xl64 style=border-top:none\;border-left:none>Folden Construction\,   LLC</td>   <td class=xl64 style=border-top:none\;border-left:none>2014-2015</td>  </tr>  <tr height=17 style=height:12.75pt>   <td height=17 class=xl64 style=height:12.75pt\;border-top:none>Brian</td>   <td class=xl64 style=border-top:none\;border-left:none>Forward</td>   <td class=xl64 style=border-top:none\;border-left:none>ProBuild East LLC</td>   <td class=xl64 style=border-top:none\;border-left:none>2014-2015</td>  </tr>  <tr height=17 style=height:12.75pt>   <td height=17 class=xl64 style=height:12.75pt\;border-top:none>Abe</td>   <td class=xl64 style=border-top:none\;border-left:none>Draper</td>   <td class=xl64 style=border-top:none\;border-left:none>Fairfax Development   Inc</td>   <td class=xl64 style=border-top:none\;border-left:none>Past President</td>  </tr>  <tr height=17 style=height:12.75pt>   <td height=17 class=xl64 style=height:12.75pt\;border-top:none>Randall</td>   <td class=xl64 style=border-top:none\;border-left:none>Heiden</td>   <td class=xl64 style=border-top:none\;border-left:none>Lake Forest   Construction &amp\; Development</td>   <td class=xl64 style=border-top:none\;border-left:none>Past President</td>  </tr>  <tr height=17 style=height:12.75pt>   <td height=17 class=xl64 style=height:12.75pt\;border-top:none>Timothy</td>   <td class=xl64 style=border-top:none\;border-left:none>Neal&nbsp\;</td>   <td class=xl64 style=border-top:none\;border-left:none>Fairfax Development   Inc</td>   <td class=xl64 style=border-top:none\;border-left:none>Past President</td>  </tr>  <tr height=17 style=height:12.75pt>   <td height=17 class=xl64 style=height:12.75pt\;border-top:none>Earl</td>   <td class=xl64 style=border-top:none\;border-left:none>Sharp</td>   <td class=xl64 style=border-top:none\;border-left:none>The Sharp Companies\,   Inc.</td>   <td class=xl64 style=border-top:none\;border-left:none>Past President</td>  </tr>  <tr height=17 style=height:12.75pt>   <td height=17 class=xl64 style=height:12.75pt\;border-top:none>Mike</td>   <td class=xl64 style=border-top:none\;border-left:none>Stevens</td>   <td class=xl64 style=border-top:none\;border-left:none>Mike Stevens Homes\,   Inc.</td>   <td class=xl64 style=border-top:none\;border-left:none>Past President</td>  </tr>  <tr height=17 style=height:12.75pt>   <td height=17 class=xl64 style=height:12.75pt\;border-top:none>Doyle</td>   <td class=xl64 style=border-top:none\;border-left:none>Webb&nbsp\;</td>   <td class=xl64 style=border-top:none\;border-left:none>H. Doyle Webb   Contractors</td>   <td class=xl64 style=border-top:none\;border-left:none>Past President</td>  </tr>  <tr height=17 style=height:12.75pt>   <td height=17 class=xl64 style=height:12.75pt\;border-top:none>Ed</td>   <td class=xl64 style=border-top:none\;border-left:none>Zarb</td>   <td class=xl64 style=border-top:none\;border-left:none>Zarb Homes</td>   <td class=xl64 style=border-top:none\;border-left:none>Past President</td>  </tr></tbody></table></div></div></div>
LOCATION:221 Clark Street\, NW Knoxville\, TN
UID:e.9402.592
SEQUENCE:3
DTSTAMP:20260420T011244Z
URL:http://hbaknoxvilletn.memberzone.com/events/details/board-of-directors-03-26-2014-592
END:VEVENT

END:VCALENDAR
