BEGIN:VCALENDAR
VERSION:2.0
PRODID:-//ChamberMaster//Event Calendar 2.0//EN
METHOD:PUBLISH
X-PUBLISHED-TTL:P3D
REFRESH-INTERVAL:P3D
CALSCALE:GREGORIAN
BEGIN:VEVENT
DTSTART;VALUE=DATE:20130227
DTEND;VALUE=DATE:20130228
TRANSP:TRANSPARENT
X-MICROSOFT-CDO-ALLDAYEVENT:TRUE
SUMMARY:Board of Directors
DESCRIPTION:Board members: the second Board of Directors meeting of the year is on Wednesday\, 02/27/13 at the HBAGK office. The Board meeting is at 11:45 AM and lunch is available upon request for $8. The EXECUTIVE COMMITTEE needs to meet at 11:15 prior to the Board meeting. We will also conduct leadership training in the afternoon via NAHB Staff so please plan to stay all afternoon.  RSVP so we can orderthe proper amount of food. \n \n Here is the DRAFT agenda for training:\n  \n 1:00   2:00pm Roles and Responsibilities\n 2:00   3:30pm End of Membership as we Know It\n 3:30   4:30 Association Goal Setting\n \n Upcoming Meetings:\n \n 2/21 - Membership Meeting at Ferguson's showroom\, 5 - 7 PM\n 2/27 - Board Meeting and orientation\, HBAGK office (1/2 day in afternoon)\n NEW - 3/3 Sunday Evening at the Hilton - BUILD-PAC fundraiser with NAHB Chief Lobbyist Jim Tobin\n 3/4-5 - HBAT Spring Board/Hill Visits\, Nashville\n 3/15-17 - The Home Show\, KCC (we need your help selling booths\, please spread the word) http://therealhomeshow.com/exhibitors/register\n \n \n LOGIN: (You can retrieve your login name & password by clicking the registration link in this message then following the prompt using your email address to have the information sent to you)
X-ALT-DESC;FMTTYPE=text/html:Board members: the second Board of Directors meeting of the year is on Wednesday\, 02/27/13 at the HBAGK office. The Board meeting is at 11:45 AM and lunch is available upon request for $8. The <u>EXECUTIVE COMMITTEE needs to meet at 11:15</u> prior to the Board meeting. We will also conduct leadership training in the afternoon via NAHB Staff so please plan to stay all afternoon. &nbsp\;<u>RSVP so we can orderthe proper amount of food</u>.&nbsp\;<br> <br> Here is the DRAFT agenda for training:<br> &nbsp\;<br> 1:00 &ndash\; 2:00pm Roles and Responsibilities<br> 2:00 &ndash\; 3:30pm End of Membership as we Know It<br> 3:30 &ndash\; 4:30 Association Goal Setting<br> <br> <u><strong>Upcoming Meetings:</strong></u><br> <br> <span style=font-family:arial\,verdana\,sans-serif\;>2/21 - Membership Meeting at Ferguson&#39\;s showroom\, 5 - 7 PM</span><br> <span style=font-family:arial\,verdana\,sans-serif\;>2/27 - Board Meeting and orientation\, HBAGK office (1/2 day in afternoon)</span><br> <span style=font-family:arial\,verdana\,sans-serif\;><strong>NEW - 3/3 Sunday Evening at the Hilton - BUILD-PAC fundraiser with NAHB Chief Lobbyist Jim Tobin</strong><br> 3/4-5 - HBAT Spring Board/Hill Visits\, Nashville</span><br> <span style=font-family:arial\,verdana\,sans-serif\;>3/15-17 - The Home Show\, KCC (we need your help selling booths\, please spread the word)&nbsp\;</span>http://therealhomeshow.com/exhibitors/register<br> <br> <br> <span style=background-color: #ffff00>LOGIN: (You can retrieve your login name &amp\; password by clicking the registration link in this message then following the prompt using your email address to have the information sent to you)</span><br> <br> <br>
LOCATION:221 Clark Street\, NW Knoxville\, TN
UID:e.9402.490
SEQUENCE:3
DTSTAMP:20260421T054925Z
URL:http://hbaknoxvilletn.memberzone.com/events/details/board-of-directors-02-27-2013-490
END:VEVENT

END:VCALENDAR
