BEGIN:VCALENDAR
VERSION:2.0
PRODID:-//ChamberMaster//Event Calendar 2.0//EN
METHOD:PUBLISH
X-PUBLISHED-TTL:P3D
REFRESH-INTERVAL:P3D
CALSCALE:GREGORIAN
BEGIN:VEVENT
DTSTART;VALUE=DATE:20120821
DTEND;VALUE=DATE:20120822
TRANSP:TRANSPARENT
X-MICROSOFT-CDO-ALLDAYEVENT:TRUE
SUMMARY:August 21 - HBAGK Membership Meeting
DESCRIPTION:Home Builders Association of Greater Knoxville\n August Networking Meeting\n Beer\, brewery tour and good food come see what's happening at the Mill\n Sponsors: Ferguson Enterprises & TnWaste\n \n Who doesn't love a great beer\, great food and great company!! Join fellow members as we gather at Saw Works Brewing Company in the Old City for a good time.  Our sponsors\, Ferguson Enterprises and TnWaste\, invite all members to join us at "The Mill"\, the meeting room at the brewery for an evening of networking in a casual\, fun setting. \n \n Is this d j  vu? Yes\, sorta   we were there last year before they rebranded the company. Saw Works Brewing Company is a packaging/distributing microbrewery based in Knoxville\, Tennessee (the only one of its kind in Knoxville). They are also partners with Century Harvest Farms in Greenback and offer locally produced\, farm-fresh beef and other products for sale.\n \n Tuesday\, August 21\, 2012\n 5:00 pm to 7:00 pm\n "The Mill" at Saw Works Brewery\n (Located at 708 East Depot Avenue in the Old City)\n  \n Thanks to our sponsors\, cost is only $12 per person and includes fresh food from "Farm to Taco" (a local food truck)\, a tour of the brewery\, and your first beer. That's right\, the first one is on us PLUS you get to keep the pint glass! There will be door prizes too. You won't find a better deal anywhere in town.  Payment must accompany reservation.  Space is limited. \n \n Cancellations after Monday\, 8/20/12 and no-shows are still responsible for payment of the reservation.
X-ALT-DESC;FMTTYPE=text/html:<strong><span style=font-size: 20pt><span style=color: #c00000>Home Builders Association of Greater Knoxville</span></span></strong><br> <strong><span style=font-size: 20pt><span style=color: #c00000>August Networking Meeting</span></span></strong><br> <strong><em><span style=font-size: medium>Beer\, brewery tour and good food&hellip\;come see what&rsquo\;s happening at the Mill</span></em></strong><br> <strong><span style=font-size: 14pt><span style=color: #c00000>Sponsors</span></span></strong><span style=font-size: 14pt><span style=color: #c00000>: <strong>Ferguson Enterprises &amp\; TnWaste</strong></span></span><br> <br> <span style=font-size: 14pt>Who doesn&rsquo\;t love a great beer\, great food and great company!! Join fellow members as we gather at Saw Works Brewing Company in the Old City for a good time.&nbsp\; Our sponsors\, <strong>Ferguson Enterprises and TnWaste</strong>\, invite all members to join us at &ldquo\;The Mill&rdquo\;\, the meeting room at the brewery for an evening of networking in a casual\, fun setting. </span><br> <br> <span style=font-size: 14pt>Is this d&eacute\;j&agrave\; vu? Yes\, sorta &ndash\; we were there last year before they rebranded the company.</span> <span style=font-size: 14pt>Saw Works Brewing Company is a packaging/distributing microbrewery based in Knoxville\, Tennessee (the only one of its kind in Knoxville). They are also partners with Century Harvest Farms in Greenback and offer locally produced\, farm-fresh beef and other products for sale.</span><br> <br> <strong><em><span style=font-size: 20pt><span style=color: #c00000>Tuesday\, August 21\, 2012</span></span></em></strong><br> <strong><em><span style=font-size: 20pt><span style=color: #c00000>5:00 pm to 7:00 pm</span></span></em></strong><br> <strong><em><span style=font-size: 20pt><span style=color: #c00000>&ldquo\;The Mill&rdquo\; at Saw Works Brewery</span></span></em></strong><br> <strong><em><span style=font-size: medium><span style=color: #c00000><span style=background-color: #ffff00>(</span><span style=background-color: #ffff00>Located at 708 East Depot Avenue in the Old City)</span></span></span></em></strong><br> &nbsp\;<br> <span style=font-size: 14pt>Thanks to our sponsors\, <strong>cost is only $12 per person</strong> and includes fresh food from &ldquo\;Farm to Taco&rdquo\; (a local food truck)\, a tour of the brewery\, and your first beer. That&rsquo\;s right\, the first one is on us PLUS you get to keep the pint glass! There will be door prizes too. You won&rsquo\;t find a better deal anywhere in town.&nbsp\; <u>Payment must accompany reservation</u>.&nbsp\; Space is limited. </span><br> <br> <strong><span style=font-size: 10pt><span style=color: red>Cancellations after Monday\, 8/20/12 and no-shows are still responsible for payment of the reservation.</span></span></strong><br>
LOCATION:708 East Depot Avenue Knoxville\, TN
UID:e.9402.441
SEQUENCE:3
DTSTAMP:20260421T210003Z
URL:http://hbaknoxvilletn.memberzone.com/events/details/august-21-hbagk-membership-meeting-08-21-2012-441
END:VEVENT

END:VCALENDAR
