BEGIN:VCALENDAR
VERSION:2.0
PRODID:-//ChamberMaster//Event Calendar 2.0//EN
METHOD:PUBLISH
X-PUBLISHED-TTL:P3D
REFRESH-INTERVAL:P3D
CALSCALE:GREGORIAN
BEGIN:VEVENT
DTSTART;VALUE=DATE:20110128
DTEND;VALUE=DATE:20110129
TRANSP:TRANSPARENT
X-MICROSOFT-CDO-ALLDAYEVENT:TRUE
SUMMARY:Annual Meeting\, Installation & Awards Banquet
DESCRIPTION:Home Builders Association of Greater Knoxville - January Membership Meeting Program - Annual Meeting\, Installation & Awards Banquet Speaker   Hallerin Hilton Hill   Friday\, January 28\, 2011~Rothchild's 6:00 p.m.-Reception 6:30 p.m.-Dinner $25.00 per person (Includes Dinner and Cash Bar)   Special dietary requests and cancellations must be made by Tuesday\, 01/25/11 Reservations and cancellations due by noon\, Tuesday\, January 25\, 2011 Cancellations after Tuesday\, 01/25/11 and no-shows are still responsible for payment of the reservation.
X-ALT-DESC;FMTTYPE=text/html:<p><b><span style=font-size: 14pt>Home Builders Association of Greater Knoxville - </span></b><b><span style=font-size: 14pt>January Membership Meeting</span></b></p> <div style=margin: 0in 0in 0pt align=left><b><font size=5><i><span style=font-size: 14pt\; color: black>Program - </span></i><span style=font-size: 14pt\; color: black>Annual Meeting\, Installation &amp\; Awards Banquet</span></font></b></div> <div style=margin: 0in 0in 0pt><b><i><span style=font-size: 14pt\; color: black>Speaker</span></i></b><span style=font-size: 14pt\; color: black> &ndash\; <b>Hallerin Hilton Hill</b></span></div> <div style=margin: 0in 0in 0pt>&nbsp\;</div> <div style=margin: 0in 0in 0pt align=left><b><font size=6><span style=font-size: 14pt>Friday\, January 28\, 2011~Rothchild&rsquo\;s</span></font></b></div> <div style=margin: 0in 0in 0pt><span style=font-size: 14pt>6:00 p.m.-Reception</span></div> <div style=margin: 0in 0in 0pt><span style=font-size: 14pt>6:30 p.m.-Dinner</span></div> <div style=margin: 0in 0in 0pt><span style=font-size: 14pt>$25.00 per person</span></div> <div style=margin: 0in 0in 0pt><span style=font-size: 14pt>(Includes Dinner and Cash Bar)</span></div> <div style=margin: 0in 0in 0pt><b>&nbsp\;</b></div> <div style=margin: 0in 0in 0pt><b><span style=font-size: 14pt\; color: red>Special dietary requests and cancellations must be made by Tuesday\, 01/25/11</span></b></div> <div style=margin: 0in 0in 0pt align=left><b><font size=4><span style=font-size: 14pt>Reservations and cancellations due by noon\, Tuesday\, January 25\, 2011</span></font></b></div> <div style=margin: 0in 0in 0pt><b><span style=font-size: 14pt\; color: red>Cancellations after Tuesday\, 01/25/11 and no-shows are still responsible for payment of the reservation</span></b><span style=font-size: 14pt\; color: red>.</span></div>
LOCATION:8807 Kingston Pike Knoxville\, TN
UID:e.9402.258
SEQUENCE:3
DTSTAMP:20260423T190724Z
URL:http://hbaknoxvilletn.memberzone.com/events/details/annual-meeting-installation-awards-banquet-01-28-2011-258
END:VEVENT

END:VCALENDAR
