BEGIN:VCALENDAR
VERSION:2.0
PRODID:-//ChamberMaster//Event Calendar 2.0//EN
METHOD:PUBLISH
X-PUBLISHED-TTL:P3D
REFRESH-INTERVAL:P3D
CALSCALE:GREGORIAN
BEGIN:VEVENT
DTSTART;VALUE=DATE:20120126
DTEND;VALUE=DATE:20120127
TRANSP:TRANSPARENT
X-MICROSOFT-CDO-ALLDAYEVENT:TRUE
SUMMARY:Annual Meeting\, Installation & Awards Banquet
DESCRIPTION:Home Builders Association of Greater Knoxville - Annual Membership Meeting Program - Annual Meeting\, Installation & Awards Banquet Speaker   Knox County Mayor Tim Burchett\n      Thursday\, January 26\, 2012~Rothchild's 6:00 p.m.-Reception 6:30 p.m.-Dinner $25.00 per person (Includes Dinner and Cash Bar)   Special dietary requests and cancellations must be made by Tuesday\, 01/24/12 Reservations and cancellations due by noon\, Tuesday\, January 24\, 2012 Cancellations after Tuesday\, 01/24/12 and no-shows are still responsible for payment of the reservation.
X-ALT-DESC;FMTTYPE=text/html:<p><b><span style=font-size: 14pt>Home Builders Association of Greater Knoxville - </span></b><b><span style=font-size: 14pt>Annual Membership Meeting</span></b></p> <div align=left style=margin: 0in 0in 0pt><b><font size=5><i><span style=color: black\; font-size: 14pt>Program - </span></i><span style=color: black\; font-size: 14pt>Annual Meeting\, Installation &amp\; Awards Banquet</span></font></b></div> <div style=margin: 0in 0in 0pt><b><i><span style=color: black\; font-size: 14pt>Speaker</span></i></b><span style=color: black\; font-size: 14pt> &ndash\;&nbsp\;<strong>Knox County Mayor Tim&nbsp\;Burchett</strong></span><br>    &nbsp\;</div> <div align=left style=margin: 0in 0in 0pt><b><font size=6><span style=font-size: 14pt>Thursday\, January 26\, 2012~Rothchild&rsquo\;s</span></font></b></div> <div style=margin: 0in 0in 0pt><span style=font-size: 14pt>6:00 p.m.-Reception</span></div> <div style=margin: 0in 0in 0pt><span style=font-size: 14pt>6:30 p.m.-Dinner</span></div> <div style=margin: 0in 0in 0pt><span style=font-size: 14pt>$25.00 per person</span></div> <div style=margin: 0in 0in 0pt><span style=font-size: 14pt>(Includes Dinner and Cash Bar)</span></div> <div style=margin: 0in 0in 0pt><b>&nbsp\;</b></div> <div style=margin: 0in 0in 0pt><b><span style=color: red\; font-size: 14pt>Special dietary requests and cancellations must be made by Tuesday\, 01/24/12</span></b></div> <div align=left style=margin: 0in 0in 0pt><b><font size=4><span style=font-size: 14pt>Reservations and cancellations due by noon\, Tuesday\, January 24\, 2012</span></font></b></div> <div style=margin: 0in 0in 0pt><b><span style=color: red\; font-size: 14pt>Cancellations after Tuesday\, 01/24/12 and no-shows are still responsible for payment of the reservation</span></b><span style=color: red\; font-size: 14pt>.</span></div>
LOCATION:8807 Kingston Pike Knoxville\, TN
UID:e.9402.372
SEQUENCE:3
DTSTAMP:20260422T113526Z
URL:http://hbaknoxvilletn.memberzone.com/events/details/annual-meeting-installation-awards-banquet-01-26-2012-372
END:VEVENT

END:VCALENDAR
