BEGIN:VCALENDAR
VERSION:2.0
PRODID:-//ChamberMaster//Event Calendar 2.0//EN
METHOD:PUBLISH
X-PUBLISHED-TTL:P3D
REFRESH-INTERVAL:P3D
CALSCALE:GREGORIAN
BEGIN:VEVENT
DTSTART;VALUE=DATE:20140109
DTEND;VALUE=DATE:20140110
TRANSP:TRANSPARENT
X-MICROSOFT-CDO-ALLDAYEVENT:TRUE
SUMMARY:Annual Meeting\, Installation & Awards Banquet
DESCRIPTION:Home Builders Association of Greater Knoxville - Annual Membership Meeting Program - Annual Meeting\, Installation of Officers & Directors\, and Awards Banquet Guest Speaker   2013 TN Builder Hall of Fame Inductee: Tim Neal of Fairfax Custom Homes & Remodeling\n      Thursday\, January 9\, 2014 ~ The Square Room on Historic Market Square\n    Free Parking after 6 PM at Market Sq. Garage\, 406 Walnut St. 6:00 p.m.-Reception\, Live music 6:45 p.m.-Dinner\, Program & Awards $35.00 per person (Includes Dinner with Cash Bar)   Special dietary requests and cancellations must be made by Monday\, 01/06/14 Reservations and cancellations due by noon\, Monday\, January 6\, 2014 Cancellations after Monday\, 01/6/14 and no-shows are still responsible for payment of the reservation.
X-ALT-DESC;FMTTYPE=text/html:<p><span style=color: #000080><b><span style=font-size: 14pt>Home Builders Association of Greater Knoxville - </span></b><b><span style=font-size: 14pt>Annual Membership Meeting</span></b></span></p> <div align=left style=margin: 0in 0in 0pt><span style=color: #000080><b><font size=5><i><span style=font-size: 14pt>Program - </span></i><span style=font-size: 14pt>Annual Meeting\, Installation of Officers &amp\; Directors\, and Awards Banquet</span></font></b></span></div> <div style=margin: 0in 0in 0pt><span style=color: #000080><b><i><span style=font-size: 14pt>Guest Speaker</span></i></b><span style=font-size: 14pt> &ndash\; <b>2013 TN Builder Hall of Fame Inductee: Tim Neal of Fairfax Custom Homes &amp\; Remodeling</b></span><br>    &nbsp\;</span></div> <div align=left style=margin: 0in 0in 0pt><span style=color: #000080><b><font size=6><span style=font-size: 14pt>Thursday\, January 9\, 2014 ~ The Square Room on Historic Market Square<br>    Free Parking after 6 PM at Market Sq. Garage\, 406 Walnut St.</span></font></b></span></div> <div style=margin: 0in 0in 0pt><span style=color: #000080><span style=font-size: 14pt>6:00 p.m.-Reception\, Live music</span></span></div> <div style=margin: 0in 0in 0pt><span style=color: #000080><span style=font-size: 14pt>6:45 p.m.-Dinner\, Program &amp\; Awards</span></span></div> <div style=margin: 0in 0in 0pt><span style=color: #000080><span style=font-size: 14pt>$35.00 per person</span></span></div> <div style=margin: 0in 0in 0pt><span style=color: #000080><span style=font-size: 14pt>(Includes Dinner with Cash Bar)</span></span></div> <div style=margin: 0in 0in 0pt><b>&nbsp\;</b></div> <div style=margin: 0in 0in 0pt><b><span style=color: red\; font-size: 14pt>Special dietary requests and cancellations must be made by Monday\, 01/06/14</span></b></div> <div align=left style=margin: 0in 0in 0pt><span style=color: #000080><b><font size=4><span style=font-size: 14pt>Reservations and cancellations due by noon\, Monday\, January 6\, 2014</span></font></b></span></div> <div style=margin: 0in 0in 0pt><b><span style=color: red\; font-size: 14pt>Cancellations after Monday\, 01/6/14 and no-shows are still responsible for payment of the reservation</span></b><span style=color: red\; font-size: 14pt>.</span></div>
LOCATION:4 Market Square\, Suite 303C Knoxville\, TN
UID:e.9402.579
SEQUENCE:3
DTSTAMP:20260420T042619Z
URL:http://hbaknoxvilletn.memberzone.com/events/details/annual-meeting-installation-awards-banquet-01-09-2014-579
END:VEVENT

END:VCALENDAR
