BEGIN:VCALENDAR
VERSION:2.0
PRODID:-//ChamberMaster//Event Calendar 2.0//EN
METHOD:PUBLISH
X-PUBLISHED-TTL:P3D
REFRESH-INTERVAL:P3D
CALSCALE:GREGORIAN
BEGIN:VEVENT
DTSTART;VALUE=DATE:20120918
DTEND;VALUE=DATE:20120919
TRANSP:TRANSPARENT
X-MICROSOFT-CDO-ALLDAYEVENT:TRUE
SUMMARY:9/18 HBAGK Associate Appreciation/Builder Show
DESCRIPTION:Home Builders Association of Greater Knoxville\n Associate Appreciation / Builder Show\n Sponsors: HBAGK Builder Members\n \n You're invited to join us for a special September Membership Meeting at Calhoun's on the River. Select Builder members will be on-site to meet and thank our Associate members for all they do to support our association. Associates: this is your chance to earn the business of the Builders you have wanted to meet. This event is part of the Builders Pledge campaign via our Membership Committee and is a great opportunity for all members to get to know one another.\n \n We asked our Featured Builders to list specific supplies/trades needed for their businesses:      Audio/Media & Home Automation    Cabinets    Concrete Finisher    Electrical Contractors    HVAC Contractors    Flooring Installers    Framers & Trim    Painters    Plumbers  \n Tuesday\, September 18\, 2012\n 5:00 pm to 7:00 pm\n Calhoun's on the River\n (Located at 400 Neyland Drive)\n  \n Thanks to our featured Builders\, cost is only $25 per person and includes soft drinks\, hors d'oeuvres buffet and a cash bar. \n Payment must accompany reservation.  Space is limited. \n \n Cancellations after Monday\, 9/17/12 and no-shows are still responsible for payment of the reservation.
X-ALT-DESC;FMTTYPE=text/html:<span style=color: #3366ff><strong><span style=font-size: 20pt>Home Builders Association of Greater Knoxville</span></strong><br> <strong><span style=font-size: 20pt>Associate Appreciation / Builder Show</span></strong></span><br> <strong><span style=font-size: 14pt><span style=color: #c00000>Sponsors</span></span></strong><span style=font-size: 14pt><span style=color: #c00000>: <strong>HBAGK Builder Members</strong></span></span><br> <br> <span style=font-size: medium><span style=font-family: times new roman><span style=font-size: 18px>You&rsquo\;re invited to join us for a special September Membership Meeting at Calhoun&rsquo\;s on the River. Select Builder members will be on-site to meet and thank our Associate members for all they do to support our association. <u>Associates: this is your chance to earn the business of the Builders you have wanted to meet.</u> This event is part of the Builders Pledge campaign via our Membership Committee and is a great opportunity for all members to get to know one another.<br> <br> <strong><span style=color: #b22222>We asked our Featured Builders to list specific supplies/trades needed for their businesses: </span></strong></span></span></span> <ul>    <li><span style=font-size: medium><span style=font-family: times new roman><span style=font-size: 18px>Audio/Media &amp\; Home Automation</span></span></span></li>    <li><span style=font-size: medium><span style=font-family: times new roman><span style=font-size: 18px>Cabinets</span></span></span></li>    <li><span style=font-size: medium><span style=font-family: times new roman><span style=font-size: 18px>Concrete Finisher</span></span></span></li>    <li><span style=font-size: medium><span style=font-family: times new roman><span style=font-size: 18px>Electrical Contractors</span></span></span></li>    <li><span style=font-size: medium><span style=font-family: times new roman><span style=font-size: 18px>HVAC Contractors</span></span></span></li>    <li><span style=font-size: medium><span style=font-family: times new roman><span style=font-size: 18px>Flooring Installers</span></span></span></li>    <li><span style=font-size: medium><span style=font-family: times new roman><span style=font-size: 18px>Framers &amp\; Trim</span></span></span></li>    <li><span style=font-size: medium><span style=font-family: times new roman><span style=font-size: 18px>Painters</span></span></span></li>    <li><span style=font-size: medium><span style=font-family: times new roman><span style=font-size: 18px><span style=font-size: medium><span style=font-family: times new roman><span style=font-size: 18px>Plumbers</span></span></span></span></span></span></li> </ul> <br> <span style=color: #3366ff><strong><em><span style=font-size: 20pt>Tuesday\, September 18\, 2012</span></em></strong><br> <strong><em><span style=font-size: 20pt>5:00 pm to 7:00 pm</span></em></strong><br> <strong><em><span style=font-size: 20pt>Calhoun&#39\;s on the River</span></em></strong></span><br> <strong><em><span style=font-size: medium><span style=color: #c00000><span style=background-color: #ffff00>(</span><span style=background-color: #ffff00>Located at 400 Neyland Drive)</span></span></span></em></strong><br> &nbsp\;<br> <span style=font-size: 14pt>Thanks to our featured Builders\, <strong>cost is only $25 per person</strong> and includes&nbsp\;soft drinks\, hors d&#39\;oeuvres buffet and a cash bar.&nbsp\;<br> <u>Payment must accompany reservation</u>.&nbsp\; Space is limited. </span><br> <br> <strong><span style=font-size: 10pt><span style=color: red>Cancellations after Monday\, 9/17/12 and no-shows are still responsible for payment of the reservation.</span></span></strong><br>
LOCATION:400 Neyland Drive Knoxville\, TN
UID:e.9402.447
SEQUENCE:3
DTSTAMP:20260421T191206Z
URL:http://hbaknoxvilletn.memberzone.com/events/details/9-18-hbagk-associate-appreciation-builder-show-09-18-2012-447
END:VEVENT

END:VCALENDAR
