BEGIN:VCALENDAR
VERSION:2.0
PRODID:-//ChamberMaster//Event Calendar 2.0//EN
METHOD:PUBLISH
X-PUBLISHED-TTL:P3D
REFRESH-INTERVAL:P3D
CALSCALE:GREGORIAN
BEGIN:VEVENT
DTSTART;VALUE=DATE:20141008
DTEND;VALUE=DATE:20141009
TRANSP:TRANSPARENT
X-MICROSOFT-CDO-ALLDAYEVENT:TRUE
SUMMARY:2015 Home Show Committee
DESCRIPTION:The next Home Show meeting is scheduled for 3:30 PM\, Wednesday\, October 8th at the Home Builders' office.  This is our first meeting for the 2015 Home Show so please try your best to attend. Early Bird registration forms and the floor plan have been sent to 2014 HBAGK Exhibitors and the Early Bird deadline is Friday\, October 3. After 10/03 registration is open to all members and non-members are regular pricing. RSVP so we can plan our materials\, thank you.
X-ALT-DESC;FMTTYPE=text/html:The next Home Show meeting is scheduled for 3:30 PM\, Wednesday\, October 8th at the Home Builders' office. &nbsp\;This is our first meeting for the 2015 Home Show so please try your best to attend. Early Bird registration forms and the floor plan have been sent to 2014 HBAGK Exhibitors and the Early Bird deadline is Friday\, October 3. After 10/03 registration is open to all members and non-members are regular pricing. RSVP so we can plan our materials\, thank you.<br> <br>
LOCATION:221 Clark Street\, NW Knoxville\, TN
UID:e.9402.639
SEQUENCE:3
DTSTAMP:20260419T142515Z
URL:http://hbaknoxvilletn.memberzone.com/events/details/2015-home-show-committee-10-08-2014-639
END:VEVENT

END:VCALENDAR
