BEGIN:VCALENDAR
VERSION:2.0
PRODID:-//ChamberMaster//Event Calendar 2.0//EN
METHOD:PUBLISH
X-PUBLISHED-TTL:P3D
REFRESH-INTERVAL:P3D
CALSCALE:GREGORIAN
BEGIN:VEVENT
DTSTART;VALUE=DATE:20131219
DTEND;VALUE=DATE:20131220
TRANSP:TRANSPARENT
X-MICROSOFT-CDO-ALLDAYEVENT:TRUE
SUMMARY:2014 Home Show Committee
DESCRIPTION:The next Home Show meeting is scheduled for Thursday\, December 19 at the KNOXVILLE CONVENTION CENTER. We will meet at 3:30 PM in the overlook room. We will discuss several important items regarding Industry Night\, decorating and of course booth sales. RSVP so we can plan our materials\, thank you.
X-ALT-DESC;FMTTYPE=text/html:The next Home Show meeting is scheduled for Thursday\, December 19 at the KNOXVILLE CONVENTION CENTER. We will meet at 3:30 PM in the overlook room. We will discuss several important items regarding Industry Night\, decorating and of course booth sales. RSVP so we can plan our materials\, thank you.<br> <br>
LOCATION:701 Henley Street Knoxville\, TN
UID:e.9402.576
SEQUENCE:3
DTSTAMP:20260420T055149Z
URL:http://hbaknoxvilletn.memberzone.com/events/details/2014-home-show-committee-12-19-2013-576
END:VEVENT

END:VCALENDAR
