BEGIN:VCALENDAR
VERSION:2.0
PRODID:-//ChamberMaster//Event Calendar 2.0//EN
METHOD:PUBLISH
X-PUBLISHED-TTL:P3D
REFRESH-INTERVAL:P3D
CALSCALE:GREGORIAN
BEGIN:VEVENT
DTSTART;VALUE=DATE:20131205
DTEND;VALUE=DATE:20131206
TRANSP:TRANSPARENT
X-MICROSOFT-CDO-ALLDAYEVENT:TRUE
SUMMARY:2014 Home Show Committee
DESCRIPTION:The next Home Show meeting is scheduled for Thursday\, December 5 at the Home Builders office. We will meet at 8:30 AM and coffee will be provided. RSVP so we can plan our materials\, thank you.
X-ALT-DESC;FMTTYPE=text/html:The next Home Show meeting is scheduled for Thursday\, December 5 at the Home Builders office. We will meet at 8:30 AM and coffee will be provided.&nbsp\;RSVP so we can plan our materials\, thank you.<br> <br>
LOCATION:221 Clark Street\, NW Knoxville\, TN
UID:e.9402.573
SEQUENCE:3
DTSTAMP:20260420T055150Z
URL:http://hbaknoxvilletn.memberzone.com/events/details/2014-home-show-committee-12-05-2013-573
END:VEVENT

END:VCALENDAR
