BEGIN:VCALENDAR
VERSION:2.0
PRODID:-//ChamberMaster//Event Calendar 2.0//EN
METHOD:PUBLISH
X-PUBLISHED-TTL:P3D
REFRESH-INTERVAL:P3D
CALSCALE:GREGORIAN
BEGIN:VEVENT
DTSTART;VALUE=DATE:20140107
DTEND;VALUE=DATE:20140108
TRANSP:TRANSPARENT
X-MICROSOFT-CDO-ALLDAYEVENT:TRUE
SUMMARY:2014 Home Show Committee
DESCRIPTION:The next Home Show meeting is scheduled for 3:30 PM\, Tuesday\, January 7 at the Home Builders' office.  RSVP so we can plan our materials\, thank you.
X-ALT-DESC;FMTTYPE=text/html:The next Home Show meeting is scheduled for 3:30 PM\, Tuesday\, January 7 at the Home Builders&#39\; office. &nbsp\;RSVP so we can plan our materials\, thank you.<br> <br>
LOCATION:221 Clark Street\, NW Knoxville\, TN
UID:e.9402.577
SEQUENCE:3
DTSTAMP:20260420T055047Z
URL:http://hbaknoxvilletn.memberzone.com/events/details/2014-home-show-committee-01-07-2014-577
END:VEVENT

END:VCALENDAR
