BEGIN:VCALENDAR
VERSION:2.0
PRODID:-//ChamberMaster//Event Calendar 2.0//EN
METHOD:PUBLISH
X-PUBLISHED-TTL:P3D
REFRESH-INTERVAL:P3D
CALSCALE:GREGORIAN
BEGIN:VEVENT
DTSTART:20140124T050000Z
DTEND:20140126T050000Z
X-MICROSOFT-CDO-ALLDAYEVENT:FALSE
SUMMARY:2014 Home Show
DESCRIPTION:The Home Builders Association of Greater Knoxville Home Show - ONLINE TICKETS SALES AVAILABLE NOW!\n    Presented by ORNL Federal Credit Union Back at Home -  The Home Show is back again at the Knoxville Convention Center downtown!\n    Celebrating our 63rd Year!! A show presented by area Home Builders\, Remodelers and Home Improvement Professionals \n      Join the Home Builders Association of Greater Knoxville for the unveiling of our REFRESHED 63rd Anniversary Home Show at the Knoxville Convention Center. The HBAGK Home Show is the only show that is produced locally by area Home Builders & Remodelers for area Home Owners. \n      Located in the heart of downtown\, the Knoxville Convention Center is centrally located in Knoxville's vibrant destination spot and is easily accessed by visitors. The Knoxville Convention Center makes promoting\, exhibiting or attending our Home Show easy and convenient. \n      Our Home Show is produced by homebuilding industry advocates that live and work here - not by out-of-town promoters that do not serve the local community. We are a NON-PROFIT organization and the only interest we serve is that of the homebuilding industry in East Tennessee. Our staff is experienced and dedicated to serving our customers. We look forward to having you as part of our successful show!\n       \n      12 Noon - 8 PM\, Friday\, January 24\, 2014 (Seniors' Day\, Industry Night) 10 AM - 8 PM\, Saturday\, January 25\, 2014 12 Noon - 6 PM\, Sunday\, January 26\, 2014
X-ALT-DESC;FMTTYPE=text/html:<div style=text-align: center\; margin: 0in 0in 0pt><strong><span style=color: #008000><span style=font-size: medium>The Home Builders Association of Greater Knoxville Home Show - <em><u><span style=background-color:#ffff00\;>ONLINE TICKETS SALES AVAILABLE NOW!</span></u></em></span></span><br>    <span style=color: #000080><span style=font-size: medium>Presented by ORNL Federal Credit Union</span></span></strong></div> <div style=text-align: center\; margin: 0in 0in 0pt><span style=color: #ff0000><strong><span style=font-size: medium>Back at Home&nbsp\;-&nbsp\;&nbsp\;The Home Show is back again at&nbsp\;the Knoxville Convention Center downtown!</span></strong></span><br>    <span style=color: #008000><strong><span style=font-size: medium>Celebrating our 63rd Year!! A show presented by area Home Builders\, Remodelers and Home Improvement Professionals</span></strong></span>&nbsp\;<br>    &nbsp\;</div> <div style=margin: 0in 0in 0pt><span style=color: #ff0000><span style=color: #000080>Join the Home Builders Association of Greater Knoxville for the unveiling of&nbsp\;our&nbsp\;REFRESHED 63rd Anniversary Home Show at the Knoxville Convention Center. The HBAGK Home&nbsp\;Show is the only show that&nbsp\;is <u>produced locally by area Home Builders &amp\; Remodelers for area Home Owners</u>.&nbsp\;</span></span><br>    <span style=color: #ff0000><span style=color: #000080>&nbsp\;</span></span></div> <div style=margin: 0in 0in 0pt><span style=color: #ff0000><span style=color: #000080>Located in the heart of downtown\, the Knoxville Convention Center is centrally located in Knoxville's&nbsp\;vibrant destination spot and is easily accessed by visitors.&nbsp\;The Knoxville Convention Center makes promoting\, exhibiting or attending our Home Show easy and convenient.&nbsp\;</span></span><br>    <span style=color: #ff0000><span style=color: #000080>&nbsp\;</span></span></div> <div style=margin: 0in 0in 0pt><span style=color: #ff0000><span style=color: #000080>Our Home Show is produced by homebuilding industry advocates that live and work here - not by out-of-town promoters that do not serve the local community. We are a NON-PROFIT organization and the only interest we serve is that of the homebuilding industry in East Tennessee. Our staff is experienced and dedicated to serving our customers. We look forward to having you as part of our successful show!</span></span><br>    &nbsp\;</div> <div style=margin: 0in 0in 0pt><span style=color: #ff0000><span style=color: #000080>&nbsp\;</span></span><br>    &nbsp\;</div> <div style=text-align: center\; margin: 0in 0in 0pt><span style=color: #008000><b><span style=font-size: 16px>12&nbsp\;Noon -&nbsp\;8 PM\, Friday\, January 24\, 2014 </span></b></span><span style=color: #000080><b><span style=font-size: 16px>(</span><span style=font-size: 16px>Seniors' Day\, Industry Night</span><span style=font-size: 16px>)</span></b></span></div> <p style=text-align: center><span style=color: #008000><b><span style=font-size: 16px>10&nbsp\;AM -&nbsp\;8 PM\, Saturday\, January 25\, 2014</span></b></span></p> <p style=text-align: center><span style=color: #008000><b><span style=font-size: 16px>12 Noon - 6 PM\, Sunday\, January 26\, 2014</span></b></span></p>
LOCATION:701 Henley Street Knoxville\, TN
UID:e.9402.583
SEQUENCE:3
DTSTAMP:20260420T055004Z
URL:http://hbaknoxvilletn.memberzone.com/events/details/2014-home-show-01-24-2014-583
END:VEVENT

END:VCALENDAR
