BEGIN:VCALENDAR
VERSION:2.0
PRODID:-//ChamberMaster//Event Calendar 2.0//EN
METHOD:PUBLISH
X-PUBLISHED-TTL:P3D
REFRESH-INTERVAL:P3D
CALSCALE:GREGORIAN
BEGIN:VEVENT
DTSTART;VALUE=DATE:20121108
DTEND;VALUE=DATE:20121109
TRANSP:TRANSPARENT
X-MICROSOFT-CDO-ALLDAYEVENT:TRUE
SUMMARY:2013 Home Show Committee
DESCRIPTION:Thank you for volunteering for the Home Show Committee - the 2013 Show is going to be great! This meeting will be hosted at Linda McEntire's office at 9 AM on Thursday\, Nov. 8. Hey\, if you haven't attended a meeting in a while we could use your ideas and input. Please attend if possible.\n \n NEW LOCATION - NEW FLOOR PLAN - NEW DATES - NEW IDEAS\n \n Open registration is now available to all members and non-members. A deposit of $200 per booth is required to make a reservation. Bulk spaces require 25% deposit. \n \n Please feel free to bring your coffee or breakfast to the meeting.\n  \n (You can retrieve your login name & password by clicking the registration link in this message then following the prompt using your email address to have the information sent to you)
X-ALT-DESC;FMTTYPE=text/html:Thank you for volunteering for the Home Show Committee - the 2013 Show is going to be great!&nbsp\;This meeting will be hosted at Linda McEntire&#39\;s office at 9 AM on Thursday\, Nov. 8. Hey\, if you haven&#39\;t attended a meeting in a while we could use your ideas and input. Please attend if possible.<br> <br> NEW LOCATION - NEW FLOOR PLAN - NEW DATES - NEW IDEAS<br> <br> Open registration is now available to all members and non-members. A deposit of $200 per booth is required to make a reservation. Bulk spaces require 25% deposit.&nbsp\;<br> <br> Please feel free to bring your coffee or breakfast to the meeting.<br> &nbsp\;<br> <strong><span style=background-color: #ffff00>(You can retrieve your login name &amp\; password by clicking the registration link in this message then following the prompt using your email address to have the information sent to you)</span></strong><br> <br>
LOCATION:11213 Outlet Drive Knoxville\, TN
UID:e.9402.464
SEQUENCE:3
DTSTAMP:20260421T123639Z
URL:http://hbaknoxvilletn.memberzone.com/events/details/2013-home-show-committee-11-08-2012-464
END:VEVENT

END:VCALENDAR
