BEGIN:VCALENDAR
VERSION:2.0
PRODID:-//ChamberMaster//Event Calendar 2.0//EN
METHOD:PUBLISH
X-PUBLISHED-TTL:P3D
REFRESH-INTERVAL:P3D
CALSCALE:GREGORIAN
BEGIN:VEVENT
DTSTART;VALUE=DATE:20120828
DTEND;VALUE=DATE:20120829
TRANSP:TRANSPARENT
X-MICROSOFT-CDO-ALLDAYEVENT:TRUE
SUMMARY:2013 Home Show Committee
DESCRIPTION:Thank you for volunteering for the Home Show Committee - the 2013 Show is going to be great!  We need your input at the next committee meeting to help us plan the big show.\n \n The registration brochure is ready and it is time to sign up vendors. 2012 participants will have the first chance to sign up for booths\, then we will open registration to all members and non-members. A deposit of $200 per booth is required to make a reservation. Bulk spaces require 25% deposit. \n \n Please feel free to bring your lunch.\n  \n (You can retrieve your login name & password by clicking the registration link in this message then following the prompt using your email address to have the information sent to you)
X-ALT-DESC;FMTTYPE=text/html:Thank you for volunteering for the Home Show Committee - the 2013 Show is going to be great!&nbsp\; We need your input at the next&nbsp\;committee meeting to help us plan the big show.<br> <br> The registration brochure is ready and it is time to sign up vendors. 2012 participants will have the first chance to sign up for booths\, then we will open registration to all members and non-members. A deposit of $200 per booth is required to make a reservation. Bulk spaces require 25% deposit.&nbsp\;<br> <br> Please feel free to bring your lunch.<br> &nbsp\;<br> <strong><span style=background-color: #ffff00>(You can retrieve your login name &amp\; password by clicking the registration link in this message then following the prompt using your email address to have the information sent to you)</span></strong><br> <br>
LOCATION:221 Clark Street\, NW Knoxville\, TN
UID:e.9402.444
SEQUENCE:3
DTSTAMP:20260421T193158Z
URL:http://hbaknoxvilletn.memberzone.com/events/details/2013-home-show-committee-08-28-2012-444
END:VEVENT

END:VCALENDAR
