BEGIN:VCALENDAR
VERSION:2.0
PRODID:-//ChamberMaster//Event Calendar 2.0//EN
METHOD:PUBLISH
X-PUBLISHED-TTL:P3D
REFRESH-INTERVAL:P3D
CALSCALE:GREGORIAN
BEGIN:VEVENT
DTSTART;VALUE=DATE:20130116
DTEND;VALUE=DATE:20130117
TRANSP:TRANSPARENT
X-MICROSOFT-CDO-ALLDAYEVENT:TRUE
SUMMARY:2013 Home Show Committee
DESCRIPTION:Thank you for volunteering for the Home Show Committee! We are off to a pretty good start and have added a few more booth sales since our recent meeting. Please follow up on your phone calls to past exhibitors and be ready to report at the meeting. If you need me to send anything for you prior to our meeting please let me know. We will also discuss the B.A.H. "Pick Your Booth" event at the KCC on 2/7/13 and need to work on our speaker schedule as well.
X-ALT-DESC;FMTTYPE=text/html:Thank you for volunteering for the Home Show Committee! We are off to a pretty good start and have added a few more booth sales since our recent meeting. Please follow up on your phone calls to past exhibitors and be ready to report at the meeting. If you need me to send anything for you prior to our meeting please let me know. We will also discuss the B.A.H. &quot\;Pick Your Booth&quot\; event at the KCC on 2/7/13 and need to work on our speaker schedule as well.<br> <br> <br>
LOCATION:221 Clark Street\, NW Knoxville\, TN
UID:e.9402.476
SEQUENCE:3
DTSTAMP:20260421T060605Z
URL:http://hbaknoxvilletn.memberzone.com/events/details/2013-home-show-committee-01-16-2013-476
END:VEVENT

END:VCALENDAR
