BEGIN:VCALENDAR
VERSION:2.0
PRODID:-//ChamberMaster//Event Calendar 2.0//EN
METHOD:PUBLISH
X-PUBLISHED-TTL:P3D
REFRESH-INTERVAL:P3D
CALSCALE:GREGORIAN
BEGIN:VEVENT
DTSTART;VALUE=DATE:20130104
DTEND;VALUE=DATE:20130105
TRANSP:TRANSPARENT
X-MICROSOFT-CDO-ALLDAYEVENT:TRUE
SUMMARY:2013 Home Show Committee
DESCRIPTION:Thank you for volunteering for the Home Show Committee - the 2013 Show will be here before you know it! Enjoy the New Year holiday and we look forward to seeing you this Friday morning at the Home Builders office.
X-ALT-DESC;FMTTYPE=text/html:Thank you for volunteering for the Home Show Committee - the 2013 Show will be here before you know it! Enjoy the New Year holiday and we look forward to seeing you this Friday morning at the Home Builders office.<br>
LOCATION:221 Clark Street\, NW Knoxville\, TN
UID:e.9402.475
SEQUENCE:3
DTSTAMP:20260421T054845Z
URL:http://hbaknoxvilletn.memberzone.com/events/details/2013-home-show-committee-01-04-2013-475
END:VEVENT

END:VCALENDAR
