BEGIN:VCALENDAR
VERSION:2.0
PRODID:-//ChamberMaster//Event Calendar 2.0//EN
METHOD:PUBLISH
X-PUBLISHED-TTL:P3D
REFRESH-INTERVAL:P3D
CALSCALE:GREGORIAN
BEGIN:VEVENT
DTSTART;VALUE=DATE:20121206
DTEND;VALUE=DATE:20121207
TRANSP:TRANSPARENT
X-MICROSOFT-CDO-ALLDAYEVENT:TRUE
SUMMARY:2012 Holiday Celebration
DESCRIPTION:2012 Holiday Celebration The Home Builders Association of Greater Knoxville and the Knoxville Area Association of Realtors  have teamed up with our Platinum Sponsor\, ORNL Federal Credit Union\, to bring to you an exciting community service event.  Join us on December 6 at the Foundry on World's Fair Park for a night of fun\, networking\, great hors d'oeuvres\, and most importantly to support Toys for Tots.  With the support of our event sponsors\, guests simply bring a new\, unwrapped toy for admission to this event (minimum $20 value). Representatives from the United States Marine Corps will be there to accept donations. Please join us for a fun night and a great cause. Help us promote this worthy cause and ensure a good Christmas for many local kids who wouldn't have one without this help.\n    \n    Thanks to you all & Happy Holidays!
X-ALT-DESC;FMTTYPE=text/html:<p style=text-align: center><br>    <br>    <span style=color: #ff0000><strong><span style=font-size: medium><span style=language: en-US><span style=font-family: arial\, helvetica\, sans-serif>2012 Holiday Celebration</span></span></span></strong></span></p> <p><span style=font-family: arial\, helvetica\, sans-serif><span style=font-size: medium><span style=language: en-US>The</span><span style=language: en-US> <strong>Home Builders Association of Greater Knoxville</strong> and the&nbsp\;<strong>Knoxville Area Association of Realtors<span style=language: en-US>&reg\;</span></strong> have teamed up with our&nbsp\;<strong>Platinum Sponsor\, <span style=color: #000080>ORNL Federal Credit Union</span></strong>\, to bring to you an exciting community service event.&nbsp\; Join us on <strong>December&nbsp\;6 at&nbsp\;the Foundry on World&#39\;s Fair Park</strong>&nbsp\;for a night of fun\, networking\, great hors d&rsquo\;oeuvres\, and most importantly to support <strong>Toys for Tots</strong>.&nbsp\; With the support of our event sponsors\, <u>guests simply bring a new\, unwrapped&nbsp\;toy for admission to this event (minimum $20 value)</u>.&nbsp\;Representatives from the <strong>United States&nbsp\;Marine Corps</strong> will be there to accept donations. Please join us for a fun night and a great cause.</span></span></span></p> <div><span style=font-family: arial\, helvetica\, sans-serif><span style=font-size: medium><span style=font-size: medium>Help us promote this worthy cause and ensure a good Christmas for many local kids who wouldn&#39\;t have one without this help.<br>    <br>    Thanks to you all &amp\; Happy Holidays!</span></span></span><br>    &nbsp\;</div>
LOCATION:747 World's Fair Park Drive Knoxville\, TN
UID:e.9402.470
SEQUENCE:3
DTSTAMP:20260421T073808Z
URL:http://hbaknoxvilletn.memberzone.com/events/details/2012-holiday-celebration-12-06-2012-470
END:VEVENT

END:VCALENDAR
