BEGIN:VCALENDAR
VERSION:2.0
PRODID:-//ChamberMaster//Event Calendar 2.0//EN
METHOD:PUBLISH
X-PUBLISHED-TTL:P3D
REFRESH-INTERVAL:P3D
CALSCALE:GREGORIAN
BEGIN:VEVENT
DTSTART;VALUE=DATE:20110524
DTEND;VALUE=DATE:20110525
TRANSP:TRANSPARENT
X-MICROSOFT-CDO-ALLDAYEVENT:TRUE
SUMMARY:2011 Parade of Homes Committee
DESCRIPTION:Please plan to attend the 2011 Parade of Homes Committee meeting on Tuesday\, May 24 at 12:00 noon. We will meet at the HBAGK office located at 221 Clark St. NW\, Knoxville\, TN 37921 and lunch will be provided for $8. RSVP to let us know if you will be attending so we can prepare our materials.  Also\, if you no longer wish to serve on this committee just let us know and we will remove you from our contact list. You are always welcome to participate at another time when it better suits your schedule. Thank you!! Next entry deadline: Wednesday\, June 1\, 2011. Entry Fee: $2000 Parade of Homes Dates: SEP 30\, OCT 1-2\, OCT 7-9\, OCT 14-16. 12 - 5 PM each day
X-ALT-DESC;FMTTYPE=text/html:<p><span style=font-size: 10pt\; font-family: &quot\;Arial&quot\;\,&quot\;sans-serif&quot\;>Please plan to attend the 2011 Parade of Homes&nbsp\;Committee meeting&nbsp\;on Tuesday\, May 24 at 12:00 noon. We will meet at the HBAGK office located at 221 Clark St. NW\, Knoxville\, TN 37921 and lunch will be provided for $8.&nbsp\;RSVP to let us know if you will be attending so we can prepare our materials. </span></p> <p><span style=font-size: 10pt\; font-family: &quot\;Arial&quot\;\,&quot\;sans-serif&quot\;>Also\, if you no longer wish to serve on this committee just let us know and we will remove you from our contact list. You are always welcome to participate at another time when it better suits your schedule. Thank you!!</span></p> <p><strong><span style=font-size: 10pt\; font-family: &quot\;Arial&quot\;\,&quot\;sans-serif&quot\;>Next entry deadline: Wednesday\, June 1\, 2011. Entry Fee: $2000</span></strong></p> <p><strong><span style=font-size: 10pt\; font-family: &quot\;Arial&quot\;\,&quot\;sans-serif&quot\;><o:p>Parade of Homes Dates: SEP 30\, OCT 1-2\, OCT 7-9\, OCT 14-16. 12 - 5 PM each day</o:p></span></strong><span style=font-size: 10pt\; font-family: &quot\;Arial&quot\;\,&quot\;sans-serif&quot\;><o:p></o:p></span></p>
LOCATION:221 Clark Street\, NW Knoxville\, TN
UID:e.9402.299
SEQUENCE:3
DTSTAMP:20260423T045142Z
URL:http://hbaknoxvilletn.memberzone.com/events/details/2011-parade-of-homes-committee-05-24-2011-299
END:VEVENT

END:VCALENDAR
