BEGIN:VCALENDAR
VERSION:2.0
PRODID:-//ChamberMaster//Event Calendar 2.0//EN
METHOD:PUBLISH
X-PUBLISHED-TTL:P3D
REFRESH-INTERVAL:P3D
CALSCALE:GREGORIAN
BEGIN:VEVENT
DTSTART;VALUE=DATE:20110414
DTEND;VALUE=DATE:20110415
TRANSP:TRANSPARENT
X-MICROSOFT-CDO-ALLDAYEVENT:TRUE
SUMMARY:2011 Parade of Homes Committee
DESCRIPTION:Please plan to attend the 2011 Parade of Homes CALL DAY on Thursday\, April 14 at 9:00 AM. We will meet at the HBAGK office located at 221 Clark St. NW\, Knoxville\, TN 37921. Lists of past Parade Builders and Membership Directory will be provided. RSVP to let us know if you will be attending so we can prepare our materials. Also\, if you no longer wish to serve on this committee just let us know and we will remove you from our contact list. You are always welcome to participate at another time when it better suits your schedule. Thank you!! Early Bird entry deadline: Monday\, May 2\, 2011. Entry Fee: $1650 Parade of Homes Dates: SEP 30\, OCT 1-2\, OCT 7-9\, OCT 14-16. 12 - 5 PM each day
X-ALT-DESC;FMTTYPE=text/html:<p><span style=font-size: 10pt\; font-family: &quot\;Arial&quot\;\,&quot\;sans-serif&quot\;>Please plan to attend the 2011 Parade of Homes CALL DAY&nbsp\;on Thursday\,&nbsp\;April 14&nbsp\;at 9:00 AM. We will meet at the HBAGK office located at 221 Clark St. NW\, Knoxville\, TN 37921.&nbsp\;Lists of past Parade Builders and Membership Directory will be provided. RSVP to let us know if you will be attending so we can prepare our materials.<o:p></o:p></span></p> <p><span style=font-size: 10pt\; font-family: &quot\;Arial&quot\;\,&quot\;sans-serif&quot\;>Also\, if you no longer wish to serve on this committee just let us know and we will remove you from our contact list. You are always welcome to participate at another time when it better suits your schedule. Thank you!!</span></p> <p><strong><span style=font-size: 10pt\; font-family: &quot\;Arial&quot\;\,&quot\;sans-serif&quot\;>Early Bird entry deadline: Monday\, May 2\, 2011. Entry Fee: $1650</span></strong></p> <p><strong><span style=font-size: 10pt\; font-family: &quot\;Arial&quot\;\,&quot\;sans-serif&quot\;><o:p>Parade of Homes Dates: SEP 30\, OCT 1-2\, OCT 7-9\, OCT 14-16. 12 - 5 PM each day</o:p></span></strong><span style=font-size: 10pt\; font-family: &quot\;Arial&quot\;\,&quot\;sans-serif&quot\;><o:p></o:p></span></p>
LOCATION:221 Clark Street\, NW Knoxville\, TN
UID:e.9402.281
SEQUENCE:3
DTSTAMP:20260423T064553Z
URL:http://hbaknoxvilletn.memberzone.com/events/details/2011-parade-of-homes-committee-04-14-2011-281
END:VEVENT

END:VCALENDAR
