BEGIN:VCALENDAR
VERSION:2.0
PRODID:-//ChamberMaster//Event Calendar 2.0//EN
METHOD:PUBLISH
X-PUBLISHED-TTL:P3D
REFRESH-INTERVAL:P3D
CALSCALE:GREGORIAN
BEGIN:VEVENT
DTSTART;VALUE=DATE:20110331
DTEND;VALUE=DATE:20110401
TRANSP:TRANSPARENT
X-MICROSOFT-CDO-ALLDAYEVENT:TRUE
SUMMARY:2011 Parade of Homes Committee
DESCRIPTION:Please plan to attend the HBAGK's 2011 Parade of Homes Committee meeting on Thursday\, March 31 at 8:00 am at the Eagle Bend Development office\, located off Northshore at 1920 Ebenezer Road. RSVP to let us know if you will be attending so we can prepare our materials. Also\, if you no longer wish to serve on this committee just let us know and we will remove you from our contact list. You are always welcome to participate at another time when it better suits your schedule. Thank you!! Early Bird entry deadline: May 2\, 2011 Parade of Homes Dates: SEP 30\, OCT 1-2\, OCT 7-9\, OCT 14-16
X-ALT-DESC;FMTTYPE=text/html:<p><span style=font-size: 10pt\; font-family: &quot\;Arial&quot\;\,&quot\;sans-serif&quot\;>Please plan to attend the HBAGK&rsquo\;s 2011 Parade of Homes Committee&nbsp\;meeting on Thursday\,&nbsp\;March&nbsp\;31 at 8:00 am&nbsp\;at the Eagle Bend Development office\, located off Northshore at 1920 Ebenezer Road.&nbsp\;RSVP to let us know if you will be attending so we can prepare our materials.<o:p></o:p></span></p> <p><span style=font-size: 10pt\; font-family: &quot\;Arial&quot\;\,&quot\;sans-serif&quot\;>Also\, if you no longer wish to serve on this committee just let us know and we will remove you from our contact list. You are always welcome to participate at another time when it better suits your schedule. Thank you!!</span></p> <p><strong><span style=font-size: 10pt\; font-family: &quot\;Arial&quot\;\,&quot\;sans-serif&quot\;>Early Bird entry deadline: May 2\, 2011</span></strong></p> <p><strong><span style=font-size: 10pt\; font-family: &quot\;Arial&quot\;\,&quot\;sans-serif&quot\;><o:p>Parade of Homes Dates: SEP 30\, OCT 1-2\, OCT 7-9\, OCT 14-16</o:p></span></strong><span style=font-size: 10pt\; font-family: &quot\;Arial&quot\;\,&quot\;sans-serif&quot\;><o:p></o:p></span></p>
LOCATION:1920 Ebenezer Road Knoxville\, TN
UID:e.9402.277
SEQUENCE:3
DTSTAMP:20260423T110305Z
URL:http://hbaknoxvilletn.memberzone.com/events/details/2011-parade-of-homes-committee-03-31-2011-277
END:VEVENT

END:VCALENDAR
