BEGIN:VCALENDAR
VERSION:2.0
PRODID:-//ChamberMaster//Event Calendar 2.0//EN
METHOD:PUBLISH
X-PUBLISHED-TTL:P3D
REFRESH-INTERVAL:P3D
CALSCALE:GREGORIAN
BEGIN:VEVENT
DTSTART;VALUE=DATE:20100331
DTEND;VALUE=DATE:20100401
TRANSP:TRANSPARENT
X-MICROSOFT-CDO-ALLDAYEVENT:TRUE
SUMMARY:2011 Home Show Committee
DESCRIPTION:The Home Show Committee will meet at the HBAGK office at 12 noon to plan the 2011 Home Show. Please reply to let us know if you will be able to attend and having lunch. Lunch will be provided for $6 and we accept cash\, checks and credit cards. Thank you for volunteering to serve on this very important committee!
X-ALT-DESC;FMTTYPE=text/html:<p><span style=font-size: 9pt\; line-height: 115%>The Home Show Committee will meet at the HBAGK office at 12 noon to plan the 2011 Home Show. Please reply to let us know if you will be able to attend and having lunch. Lunch will be provided for $6 and we accept cash\, checks and credit cards. Thank you for volunteering to serve on this very important committee!</span></p>
LOCATION:221 Clark Street\, NW Knoxville\, TN
UID:e.9402.207
SEQUENCE:3
DTSTAMP:20260424T121029Z
URL:http://hbaknoxvilletn.memberzone.com/events/details/2011-home-show-committee-03-31-2010-207
END:VEVENT

END:VCALENDAR
