BEGIN:VCALENDAR
VERSION:2.0
PRODID:-//ChamberMaster//Event Calendar 2.0//EN
METHOD:PUBLISH
X-PUBLISHED-TTL:P3D
REFRESH-INTERVAL:P3D
CALSCALE:GREGORIAN
BEGIN:VEVENT
DTSTART:20110304T050000Z
DTEND:20110306T050000Z
X-MICROSOFT-CDO-ALLDAYEVENT:FALSE
SUMMARY:2011 Home Show
DESCRIPTION:The Home Show  The Original: Circa 1951. The Oldest: Celebrating 60 Years! A show presented by area Home Builders for area Home Owners Sponsored by ORNL Federal Credit Union - $2 coupons available at their branch locations   Join the Home Buiders Association of Greater Knoxville for the unveiling of the ALL NEW 60th Anniversary Home Show  at the Knoxville Expo Center. The HBAGK Home Show  is the only show that is produced locally by area Home Builders for area Home Owners. See more information at www.therealhomeshow.com.   Located just minutes from downtown\, the Knoxville Expo Center is centrally located to Knoxville's booming suburban population and is easily accessed by visitors from throughout East Tennessee just off I-75 and I-640 (5441 Clinton HWY). The KEC features vast amounts of FREE ON-SITE PARKING and makes promoting\, exhibiting or attending our Home Show  easy and convenient. NOW is the time to sign up for your exhibit space while plenty of great booth locations are still available.   Don't be deceived by other "shows". Our Home Show  is produced by homebuilding industry advocates that live and work here - not by out-of-town promoters that do not serve the local community. We are a NON-PROFIT organization and the only interest we serve is that of the homebuilding industry in East Tennessee. Our staff is experienced and dedicated to serving our customers. We look forward to having you as part of our successful show!   12 Noon - 8 PM\, Friday\, March 4\, 2010 - $10 Admission (Seniors $8\, Friday only!) 10 AM - 8 PM\, Saturday\, March 5\, 2010 - $10 Admission 12 Noon - 6 PM\, Sunday\, March 6\, 2010 - $10 Admission
X-ALT-DESC;FMTTYPE=text/html:<div style=text-align: center\; margin: 0in 0in 0pt><span style=font-size: medium>The Home Show&trade\;</span></div> <div style=text-align: center\; margin: 0in 0in 0pt><span style=font-size: medium>The Original: Circa 1951. The Oldest: Celebrating 60 Years! A show presented by area Home Builders for area Home Owners</span></div> <div style=text-align: center\; margin: 0in 0in 0pt><span style=font-size: medium>Sponsored by ORNL Federal Credit Union - $2 coupons available at their branch locations</span></div> <div style=margin: 0in 0in 0pt>&nbsp\;</div> <div style=margin: 0in 0in 0pt>Join the Home Buiders Association of Greater Knoxville for the unveiling of the ALL NEW 60th Anniversary Home Show&trade\; at the Knoxville Expo Center. The HBAGK Home&nbsp\;Show&trade\; is the only show that&nbsp\;is <u>produced locally by area Home Builders for area Home Owners</u>. See more information at <a href=http://www.therealhomeshow.com>www.therealhomeshow.com</a>.</div> <div style=margin: 0in 0in 0pt>&nbsp\;</div> <div style=margin: 0in 0in 0pt>Located just minutes from downtown\, the Knoxville Expo Center is centrally located to Knoxville&rsquo\;s booming suburban population and is easily accessed by visitors from throughout East Tennessee just off I-75 and I-640 (5441 Clinton HWY).&nbsp\;The KEC&nbsp\;features vast amounts of <strong>FREE ON</strong><strong>-</strong><strong>SITE PARKING</strong> and&nbsp\;makes promoting\, exhibiting or attending our Home Show&trade\; easy and convenient. NOW is the time to sign up for your exhibit space while plenty of great booth locations are still available.</div> <div style=margin: 0in 0in 0pt>&nbsp\;</div> <div style=margin: 0in 0in 0pt>Don&rsquo\;t be deceived by other &quot\;shows&quot\;. Our Home Show&trade\; is produced by homebuilding industry advocates that live and work here - not by out-of-town promoters that do not serve the local community. We are a NON-PROFIT organization and the only interest we serve is that of the homebuilding industry in East Tennessee. Our staff is experienced and dedicated to serving our customers. We look forward to having you as part of our successful show!</div> <div style=margin: 0in 0in 0pt>&nbsp\;</div> <p style=text-align: center><b><span style=font-size: 16px>12&nbsp\;Noon -&nbsp\;8 PM\, Friday\, March 4\, 2010 - $10 Admission (</span><span style=font-size: 16px>Seniors $8\, Friday only!)</span></b></p> <p style=text-align: center><b><span style=font-size: 16px>10&nbsp\;AM -&nbsp\;8 PM\, Saturday\, March 5\, 2010 - $10 Admission</span></b></p> <p style=text-align: center><b><span style=font-size: 16px>12 Noon - 6 PM\, Sunday\, March 6\, 2010 - $10 Admission</span></b></p>
LOCATION:5441 Clinton HWY Knoxville\, TN
UID:e.9402.267
SEQUENCE:3
DTSTAMP:20260423T123256Z
URL:http://hbaknoxvilletn.memberzone.com/events/details/2011-home-show-03-04-2011-267
END:VEVENT

END:VCALENDAR
