BEGIN:VCALENDAR
VERSION:2.0
PRODID:-//ChamberMaster//Event Calendar 2.0//EN
METHOD:PUBLISH
X-PUBLISHED-TTL:P3D
REFRESH-INTERVAL:P3D
CALSCALE:GREGORIAN
BEGIN:VEVENT
DTSTART:20101001T040000Z
DTEND:20101017T040000Z
X-MICROSOFT-CDO-ALLDAYEVENT:FALSE
SUMMARY:2010 Parade of Homes
DESCRIPTION:Welcome to ninth year of our Multiple Site Parade of Homes . This year's Parade of Homes offers you the opportunity to visit new homes located in Knox and surrounding counties. The builders or their representatives will be on hand to answer your questions while visiting their homes.          Dates: 10/1-3\, 10/8-10\, 10/15-17     Hours: Noon to 5:00 p.m. each day     Admission is free to the public     Some homes may be decorated     Homes may be in a variety of subdivisions in a variety of price ranges within the HBA of Greater Knoxville territory
X-ALT-DESC;FMTTYPE=text/html:<p>Welcome to ninth year of our Multiple Site Parade of Homes&trade\;.&nbsp\;This year&rsquo\;s Parade of Homes offers you the opportunity to visit new homes located in Knox and surrounding counties. The builders or their representatives will be on hand to answer your questions while visiting their homes.&nbsp\;&nbsp\;</p> <div style=margin: 0in 0in 0pt>&nbsp\;</div> <ul type=disc style=margin-top: 0in>     <li style=margin: 0in 0in 0pt>Dates: 10/1-3\, 10/8-10\, 10/15-17</li>     <li style=margin: 0in 0in 0pt>Hours:&nbsp\;Noon to 5:00 p.m. each day</li>     <li style=margin: 0in 0in 0pt>Admission is free to the public</li>     <li style=margin: 0in 0in 0pt>Some homes may be decorated</li>     <li style=margin: 0in 0in 0pt>Homes may be in a variety of subdivisions in a variety of price ranges within the HBA of Greater Knoxville territory</li> </ul> <div style=margin: 0in 0in 0pt>&nbsp\;</div>
LOCATION:
UID:e.9402.244
SEQUENCE:3
DTSTAMP:20260424T023634Z
URL:http://hbaknoxvilletn.memberzone.com/events/details/2010-parade-of-homes-10-01-2010-244
END:VEVENT

END:VCALENDAR
