BEGIN:VCALENDAR
VERSION:2.0
PRODID:-//ChamberMaster//Event Calendar 2.0//EN
METHOD:PUBLISH
X-PUBLISHED-TTL:P3D
REFRESH-INTERVAL:P3D
CALSCALE:GREGORIAN
BEGIN:VEVENT
DTSTART;VALUE=DATE:20101209
DTEND;VALUE=DATE:20101210
TRANSP:TRANSPARENT
X-MICROSOFT-CDO-ALLDAYEVENT:TRUE
SUMMARY:2010 Holiday Celebration
DESCRIPTION:REGISTRATION CLOSED - MAXIMUM CAPACITY - THANK YOU!!! The Knoxville Area Association of Realtors  and the Home Builders Association of Greater Knoxville have teamed up this year to bring to you a new and exciting community service event.  Join us on December 9 at Rothchild's Conference Center for a night of fun\, networking\, great hors d'oeuvres\, and most importantly to support Toys for Tots.  With the support of our event sponsors\, attendees simply bring a new toy for admission to this event. Representatives from the U.S. Marine Corps will be there to accept their donations.  RSVP required: Phone 546-4665\, or register online at www.hbaknoxville.com
X-ALT-DESC;FMTTYPE=text/html:<p><span style=color: #ff0000><strong><span style=font-size: medium><span style=language: en-US>REGISTRATION CLOSED - MAXIMUM CAPACITY - THANK YOU!!!</span></span></strong></span></p> <p><span style=font-size: medium><span style=language: en-US>The Knoxville Area Association of Realtors</span><span style=language: en-US>&reg\;</span><span style=language: en-US> and the Home Builders Association of Greater Knoxville have teamed up this year to bring to you a new and exciting community service event.&nbsp\; Join us on December 9 at Rothchild&rsquo\;s Conference Center for a night of fun\, networking\, great hors d&rsquo\;oeuvres\, and most importantly to support Toys for Tots.&nbsp\; With the support of our event sponsors\, attendees simply bring a new toy for admission to this event.&nbsp\;Representatives from the U.S. Marine Corps will be there to accept their donations.</span></span></p> <div>&nbsp\;<span style=font-size: medium><strong>RSVP required</strong>: Phone 546-4665\, or register online at </span><a href=http://www.hbaknoxville.com><span style=font-size: medium>www.hbaknoxville.com</span></a></div>
LOCATION:8807 Kingston Pike Knoxville\, TN
UID:e.9402.252
SEQUENCE:3
DTSTAMP:20260423T203802Z
URL:http://hbaknoxvilletn.memberzone.com/events/details/2010-holiday-celebration-12-09-2010-252
END:VEVENT

END:VCALENDAR
