BEGIN:VCALENDAR
VERSION:2.0
PRODID:-//ChamberMaster//Event Calendar 2.0//EN
METHOD:PUBLISH
X-PUBLISHED-TTL:P3D
REFRESH-INTERVAL:P3D
CALSCALE:GREGORIAN
BEGIN:VEVENT
DTSTART;VALUE=DATE:20090212
DTEND;VALUE=DATE:20090213
TRANSP:TRANSPARENT
X-MICROSOFT-CDO-ALLDAYEVENT:TRUE
SUMMARY:2009 Home Show Committee
DESCRIPTION:The Home Show Committee will meet to plan the show! RSVP so we can order the proper amount of lunch. Thanks for volunteering to serve on this committee.
X-ALT-DESC;FMTTYPE=text/html:<p>The Home Show Committee will meet to plan the show! RSVP so we can order the proper amount of lunch. Thanks for volunteering to serve on this committee.</p>
LOCATION:221 Clark Street\, NW Knoxville\, TN
UID:e.9402.156
SEQUENCE:3
DTSTAMP:20260425T121616Z
URL:http://hbaknoxvilletn.memberzone.com/events/details/2009-home-show-committee-02-12-2009-156
END:VEVENT

END:VCALENDAR
