BEGIN:VCALENDAR
VERSION:2.0
PRODID:-//ChamberMaster//Event Calendar 2.0//EN
METHOD:PUBLISH
X-PUBLISHED-TTL:P3D
REFRESH-INTERVAL:P3D
CALSCALE:GREGORIAN
BEGIN:VEVENT
DTSTART;VALUE=DATE:20090108
DTEND;VALUE=DATE:20090109
TRANSP:TRANSPARENT
X-MICROSOFT-CDO-ALLDAYEVENT:TRUE
SUMMARY:2009 Home Show Committee
DESCRIPTION:The 2009 Home Show committee will meet to discuss next year's show. Lunch will be available for $6 - please reply so we can order the proper amount of food. We appreciate you serving on this committee! Please click the link to register or decline this invitation. If you have forgotten your username and password you can enter your email address at the login section to have the information sent to you.
X-ALT-DESC;FMTTYPE=text/html:<p>The 2009 Home Show committee will meet to discuss next year&rsquo\;s show. Lunch will be available for $6 - please reply so we can order the proper amount of food. We appreciate you serving on this committee!</p> <p>Please click the link to register or decline this invitation. If you have forgotten your username and password you can enter your email address at the login section to have the information sent to you.</p>
LOCATION:221 Clark Street\, NW Knoxville\, TN
UID:e.9402.149
SEQUENCE:3
DTSTAMP:20260425T140528Z
URL:http://hbaknoxvilletn.memberzone.com/events/details/2009-home-show-committee-01-08-2009-149
END:VEVENT

END:VCALENDAR
