BEGIN:VCALENDAR
VERSION:2.0
PRODID:-//ChamberMaster//Event Calendar 2.0//EN
METHOD:PUBLISH
X-PUBLISHED-TTL:P3D
REFRESH-INTERVAL:P3D
CALSCALE:GREGORIAN
BEGIN:VEVENT
DTSTART:20090305T050000Z
DTEND:20090308T050000Z
X-MICROSOFT-CDO-ALLDAYEVENT:FALSE
SUMMARY:2009 Home Show
DESCRIPTION:This will be the ninth year in a row that we have hosted the Home Show(TM) at the Knoxville Expo Center! Located just minutes from downtown\, the facility is centrally located to Knoxville's booming suburban population and is easily accessed by visitors from throughout East Tennessee just off I-75 and I-640 (5441 Clinton HWY). The KEC features vast amounts of FREE ON-SITE PARKING and makes promoting\, exhibiting or attending our Home Show(TM) easy and convenient.   Don't be deceived by other "shows". Our Home Show(TM) is produced by homebuilding industry advocates that live and work here - not by out-of-town promoters that do not serve the local community. The only interest we serve is that of the homebuilding industry in East Tennessee. Our staff is experienced and dedicated to serving our customers. We look forward to having you as part of our successful show!   MEMBERS - Color brochures for registration have been sent to you via email and/or regular mail 6 PM - 9 PM Thursday\, March 5\, 2009 Preview Night - Exhibitors\, HBAGK Members and Invited Guests ONLY. This is the night for Industry Professionals and is not open to the general public. 3 PM - 9 PM\, Friday\, March 6\, 2009 - $5 Admission 9 AM - 9 PM\, Saturday\, March 7\, 2009 - $5 Admission 12 Noon - 6 PM\, Sunday\, March 8\, 2009 - $5 Admission
X-ALT-DESC;FMTTYPE=text/html:<div style=margin: 0in 0in 0pt>This will be the ninth year in a row that we have hosted the Home Show(TM) at the Knoxville Expo Center! Located just minutes from downtown\, the facility is centrally located to Knoxville&rsquo\;s booming suburban population and is easily accessed by visitors from throughout East Tennessee just off I-75 and I-640 (5441 Clinton HWY).&nbsp\;The KEC&nbsp\;features vast amounts of <strong>FREE ON</strong><strong>-</strong><strong>SITE PARKING</strong> and&nbsp\;makes promoting\, exhibiting or attending our Home Show(TM) easy and convenient.</div> <div style=margin: 0in 0in 0pt>&nbsp\;</div> <div style=margin: 0in 0in 0pt>Don&rsquo\;t be deceived by other &quot\;shows&quot\;. Our Home Show(TM) is produced by homebuilding industry advocates that live and work here - not by out-of-town promoters that do not serve the local community. The only interest we serve is that of the homebuilding industry in East Tennessee. Our staff is experienced and dedicated to serving our customers. We look forward to having you as part of our successful show!</div> <div style=margin: 0in 0in 0pt>&nbsp\;</div> <div style=margin: 0in 0in 0pt><b><span style=color: #0000ff>MEMBERS - Color brochures for registration have&nbsp\;been&nbsp\;sent to you via email and/or regular mail</span></b></div> <p><strong><i>6 PM - 9 PM Thursday\, March 5\, 2009 Preview Night - Exhibitors\, HBAGK Members and Invited Guests ONLY. This is the night for Industry Professionals and <u>is not open to the general public</u>.</i></strong></p> <p style=text-align: center><b><span style=font-size: 16px>3 PM - 9 PM\, Friday\, March 6\, 2009 - $5 Admission</span></b></p> <p style=text-align: center><b><span style=font-size: 16px>9 AM - 9 PM\, Saturday\, March 7\, 2009 - $5 Admission</span></b></p> <p style=text-align: center><b><span style=font-size: 16px>12 Noon - 6 PM\, Sunday\, March 8\, 2009 - $5 Admission</span></b></p>
LOCATION:5441 Clinton HWY Knoxville\, TN
UID:e.9402.159
SEQUENCE:3
DTSTAMP:20260425T103622Z
URL:http://hbaknoxvilletn.memberzone.com/events/details/2009-home-show-03-05-2009-159
END:VEVENT

END:VCALENDAR
