BEGIN:VCALENDAR
VERSION:2.0
PRODID:-//ChamberMaster//Event Calendar 2.0//EN
METHOD:PUBLISH
X-PUBLISHED-TTL:P3D
REFRESH-INTERVAL:P3D
CALSCALE:GREGORIAN
BEGIN:VEVENT
DTSTART;VALUE=DATE:20091210
DTEND;VALUE=DATE:20091211
TRANSP:TRANSPARENT
X-MICROSOFT-CDO-ALLDAYEVENT:TRUE
SUMMARY:2009 Holiday Celebration
DESCRIPTION:Home Builders Association of Greater Knoxville    2009 Holiday Celebration    Please join us for another spectacular Holiday Celebration!  When: Thursday\, December 10\, 2009\, 6 - 8:30 p.m. "Holiday Party Attire" Admission: 1 new toy per guest (minimum value $25)\, or $25 per person. Includes exquisite Hors d'oeuvres\, cash bar Where: Rothchild's Catering & Conference Center\, 8807 Kingston Pike\, Knoxville\, TN 37923 RSVP required: Phone 546-4665\, or register online at www.hbaknoxville.com You are cordially invited to attend the HBAGK Holiday Gala. This promises to be THE event of the season. Your evening includes a spectacular array of Hors D'oeuvres\, Beverages\, and Desserts. Space is limited\, so make your reservations now!! This year marks the 62nd anniversary for the Toys for Tots tradition of the U.S. Marine Corps Reserves. The HBAGK\, along with our sponsors\, are proud to host our 9th year supporting the Toys for Tots campaign. Our goal is 1\,000 new toys. Let's remind our community what a powerful force the home building industry is by exceeding our goal and becoming one of the largest providers to Toys for Tots. Please join us on December 10.   To hold your reservation you must include a credit card number. Members of record and their guest will only be charged if you do not attend or cancel after the allotted time frame ($25 per person).    *Please note that reservations are accepted in the order they are received. No reservations will be accepted without a credit card. Cancellations will not be accepted after noon on Monday\, December 7\, 2009. Cancellations after this date and no-shows will be charged $25 per person. Our agreement with Rothchild's  requires a guarantee by this date\, so there can be no exceptions to the cancellation/no-show policy. Thank you for your cooperation.
X-ALT-DESC;FMTTYPE=text/html:<p><span style=font-size: 16px /></p> <p align=center>&nbsp\;</p> <div style=margin: 0in 0in 0pt> <div style=margin: 0in 0in 0pt><i><span style=font-size: 10pt /></i></div> <p style=text-align: center>&nbsp\;<font color=#ff0000><span style=font-size: 22px><font color=#ff0000><span style=font-size: 24px><span style=font-size: 19px><span style=font-size: 16px><font color=#ff0000><strong>Home Builders Association of Greater Knoxville</strong></font></span></span></span></font></span></font></p> </div> <p>&nbsp\;</p> <p style=text-align: center><span style=font-size: 22px><span style=font-size: 24px><span style=font-size: 19px><span style=font-size: 16px><strong><font color=#339966>2009 Holiday Celebration</font></strong></span></span></span></span></p> <div style=margin: 0in 0in 0pt>&nbsp\;</div> <div style=margin: 0in 0in 0pt><span style=font-size: 16px> <div style=margin: 0in 0in 0pt>Please join us for another spectacular Holiday Celebration!</div> <div style=margin: 0in 0in 0pt> <p><strong>When</strong>: Thursday\, December 10\, 2009\, 6 - 8:30 p.m. &quot\;Holiday Party Attire&quot\;</p> <p><strong>Admission</strong>: 1 new toy per guest (minimum value $25)\, or $25 per person. Includes exquisite Hors d&rsquo\;oeuvres\, cash bar</p> <p><strong>Where</strong>: Rothchild&rsquo\;s Catering &amp\; Conference Center\, 8807 Kingston Pike\, Knoxville\, TN 37923</p> <p><strong>RSVP required</strong>: Phone 546-4665\, or register online at <a href=http://www.hbaknoxville.com>www.hbaknoxville.com</a></p> <p><span style=font-size: medium><span style=font-family: Times New Roman>You are cordially invited to attend the HBAGK Holiday Gala.&nbsp\;This promises to be THE event of the season.&nbsp\;Your evening includes a spectacular array of Hors D&rsquo\;oeuvres\, Beverages\, and Desserts.&nbsp\;Space is limited\, so make your reservations now!!</span></span><span style=font-family: Times New Roman /></p> <p><span style=font-size: medium><span style=font-family: Times New Roman>This year marks the 62nd anniversary for the Toys for Tots tradition of the U.S. Marine Corps Reserves. The HBAGK\, along with our sponsors\, are proud to host our 9th year supporting the Toys for Tots campaign. Our goal is 1\,000 new toys. Let&rsquo\;s remind our community what a powerful force the home building industry is by exceeding our goal and becoming one of the largest providers to Toys for Tots. Please join us on December 10.</span></span></p> </div> </span></div> <div style=margin: 0in 0in 0pt><span style=font-size: small><span style=font-family: Times New Roman><i>To hold your reservation you <u>must </u>include a credit card number. Members of record and their guest will only be charged if you do not attend or cancel after the allotted time frame ($25 per person). </i></span></span></div> <div style=margin: 0in 0in 0pt><span style=font-size: small><span style=font-family: Times New Roman>&nbsp\;</span></span></div> <div style=margin: 0in 0in 0pt><span style=font-size: small><span style=font-family: Times New Roman><i>*Please note that reservations are accepted in the order they are received.&nbsp\;No reservations will be accepted without a credit card.&nbsp\;Cancellations will not be accepted after noon on Monday\, December 7\, 2009.&nbsp\;Cancellations after this date and no-shows will be charged $25 per person.&nbsp\;Our agreement with Rothchild&rsquo\;s &nbsp\;requires a guarantee by this date\, so there can be no exceptions to the cancellation/no-show policy.&nbsp\;Thank you for your cooperation.</i></span></span><span style=font-family: Times New Roman /></div>
LOCATION:8807 Kingston Pike Knoxville\, TN
UID:e.9402.197
SEQUENCE:3
DTSTAMP:20260424T203725Z
URL:http://hbaknoxvilletn.memberzone.com/events/details/2009-holiday-celebration-12-10-2009-197
END:VEVENT

END:VCALENDAR
