BEGIN:VCALENDAR
VERSION:2.0
PRODID:-//ChamberMaster//Event Calendar 2.0//EN
METHOD:PUBLISH
X-PUBLISHED-TTL:P3D
REFRESH-INTERVAL:P3D
CALSCALE:GREGORIAN
BEGIN:VEVENT
DTSTART;VALUE=DATE:20130221
DTEND;VALUE=DATE:20130222
TRANSP:TRANSPARENT
X-MICROSOFT-CDO-ALLDAYEVENT:TRUE
SUMMARY:2/21 Membership Meeting at Ferguson's
DESCRIPTION:Home Builders Association of Greater Knoxville - February Membership Meeting\n    \n    Ferguson invites all HBAGK members to visit their showroom for the February Membership Meeting  Stop by after work to network and learn about their wide range of products. Representatives from GE Appliances\, Grohe and Juno will be present to discuss the new\, innovative products they have to offer.\n    \n    Raffle prizes\, catered food & drinks sponsored by Ferguson. RSVP!   Thursday\, February 21\, 2013~5:00 pm - 7:00 pm\n    Ferguson Showroom\n    215 Peregrine Way\n    Knoxville\, TN 37922
X-ALT-DESC;FMTTYPE=text/html:<p><span style=color: #000080><b><span style=font-size: 14pt>Home Builders Association of Greater Knoxville - </span></b><b><span style=font-size: 14pt>February Membership Meeting</span></b></span><br>    <br>    <span style=color:#ff0000\;><b><span style=font-size: 14pt>Ferguson invites all HBAGK members to visit their showroom for the February Membership Meeting&nbsp\;</span></b></span></p> <div align=left style=margin: 0in 0in 0pt><font color=#000080><span style=font-size: 19px\;><b><i>Stop by after work to network and learn about their wide range of products. Representatives from GE Appliances\, Grohe and Juno will be present to discuss the new\, innovative products they have to offer.<br>    <br>    Raffle prizes\, catered food &amp\; drinks sponsored by Ferguson. RSVP!</i></b></span></font></div> <div style=margin: 0in 0in 0pt><span style=color: #000080>&nbsp\;</span></div> <div align=left style=margin: 0in 0in 0pt><span style=color:#ff0000\;><b><font size=6><span style=font-size: 14pt>Thursday\, February 21\, 2013~5:00 pm - 7:00 pm</span></font></b></span><br>    <span style=color: #000080><b><font size=6><span style=font-size: 14pt>Ferguson Showroom<br>    215 Peregrine Way<br>    Knoxville\, TN 37922</span></font></b></span></div> <div style=margin: 0in 0in 0pt>&nbsp\;</div> <div style=margin: 0in 0in 0pt><b>&nbsp\;</b></div> <div style=margin: 0in 0in 0pt>&nbsp\;</div>
LOCATION:215 Peregrine Way Knoxville\, TN
UID:e.9402.487
SEQUENCE:3
DTSTAMP:20260421T054151Z
URL:http://hbaknoxvilletn.memberzone.com/events/details/2-21-membership-meeting-at-ferguson-s-02-21-2013-487
END:VEVENT

END:VCALENDAR
