BEGIN:VCALENDAR
VERSION:2.0
PRODID:-//ChamberMaster//Event Calendar 2.0//EN
METHOD:PUBLISH
X-PUBLISHED-TTL:P3D
REFRESH-INTERVAL:P3D
CALSCALE:GREGORIAN
BEGIN:VEVENT
DTSTART;VALUE=DATE:20131017
DTEND;VALUE=DATE:20131018
TRANSP:TRANSPARENT
X-MICROSOFT-CDO-ALLDAYEVENT:TRUE
SUMMARY:10/17 Membership Social at Standard Kitchen/HomeChoice Window Showrooms
DESCRIPTION:Home Builders Association of Greater Knoxville - October Membership Social\n    \n    Standard Kitchen & Bath and HomeChoice Windows & Doors invites all HBAGK members to visit their showroom for the OCT 17 Membership Social Stop by after work to network and learn about their products and see their newly designed showroom. Representatives will be in attendance to answer questions and provide information on their products. Catered food & drinks and prizes sponsored by Standard Kitchen and HomeChoice\, RSVP!\n      Thursday\, OCT 17\, 2013~5:00 pm - 7:00 pm\n    Standard Kitchen & Bath / HomeChoice Showroom\n    8719 Kingston Pike\n    Knoxville\, TN 37923
X-ALT-DESC;FMTTYPE=text/html:<p><span style=color: #000080><b><span style=font-size: 14pt>Home Builders Association of Greater Knoxville - </span></b><b><span style=font-size: 14pt>October Membership Social</span></b></span><br>    <br>    <span style=color:#ff0000\;><b><span style=font-size: 14pt>Standard Kitchen &amp\; Bath and HomeChoice Windows &amp\; Doors invites all HBAGK members to visit their showroom for the OCT 17 Membership Social</span></b></span></p> <div align=left style=margin: 0in 0in 0pt><font color=#000080><span style=font-size: 19px><b><i>Stop by after work to network and learn about their products and see their newly designed showroom. Representatives will be in attendance to answer questions and provide information on their products.&nbsp\;Catered food &amp\; drinks and prizes sponsored by Standard Kitchen and HomeChoice\, RSVP!</i></b></span></font><br>    <span style=color: #000080\;>&nbsp\;</span></div> <div align=left style=margin: 0in 0in 0pt><span style=color:#ff0000\;><b><font size=6><span style=font-size: 14pt>Thursday\, OCT 17\, 2013~5:00 pm - 7:00 pm</span></font></b></span><br>    <span style=color: #000080><b><font size=6><span style=font-size: 14pt>Standard Kitchen &amp\; Bath / HomeChoice Showroom<br>    8719 Kingston Pike<br>    Knoxville\, TN 37923</span></font></b></span></div> <div style=margin: 0in 0in 0pt><br>    &nbsp\;</div> <div style=margin: 0in 0in 0pt><b>&nbsp\;</b></div> <div style=margin: 0in 0in 0pt>&nbsp\;</div>
LOCATION:8719 Kingston Pike Knoxville\, TN
UID:e.9402.561
SEQUENCE:3
DTSTAMP:20260420T130438Z
URL:http://hbaknoxvilletn.memberzone.com/events/details/10-17-membership-social-at-standard-kitchen-homechoice-window-showrooms-10-17-2013-561
END:VEVENT

END:VCALENDAR
