BEGIN:VCALENDAR
VERSION:2.0
PRODID:-//ChamberMaster//Event Calendar 2.0//EN
METHOD:PUBLISH
X-PUBLISHED-TTL:P3D
REFRESH-INTERVAL:P3D
CALSCALE:GREGORIAN
BEGIN:VEVENT
DTSTART;VALUE=DATE:20130129
DTEND;VALUE=DATE:20130130
TRANSP:TRANSPARENT
X-MICROSOFT-CDO-ALLDAYEVENT:TRUE
SUMMARY:1/29/13 Annual Meeting\, Installation & Awards Banquet
DESCRIPTION:Home Builders Association of Greater Knoxville - Annual Membership Meeting\n\nProgram - Annual Meeting\, Installation of Officers & Directors\, and Awards Banquet\n\nGuest Speaker   Michael Carroll\n\n \n\nTuesday\, January 29\, 2013~The Square Room on Historic Market Square\n\nFree Parking after 6 PM at Market Sq. Garage\, 406 Walnut St.\n\n6:00 p.m.-Reception\n\n6:30 p.m.-Dinner\n\n$35.00 per person\n\n(Includes Dinner with Cash Bar)\n\n \n\nSpecial dietary requests and cancellations must be made by Friday\, 01/25/13\n\nReservations and cancellations due by noon\, Friday\, January 25\, 2013\n\nCancellations after Friday\, 01/25/13 and no-shows are still responsible for payment of the reservation.
X-ALT-DESC;FMTTYPE=text/html:<p><span 000080="" style="color:"><b><span 14pt="" style="font-size:">Home Builders Association of Greater Knoxville - </span></b><b><span 14pt="" style="font-size:">Annual Membership Meeting</span></b></span></p>\n\n<div 0in="" 0pt="" align="left" style="margin:"><span 000080="" style="color:"><b><font size="5"><i><span 14pt="" style="font-size:">Program - </span></i><span 14pt="" style="font-size:">Annual Meeting\, Installation of Officers &amp\; Directors\, and Awards Banquet</span></font></b></span></div>\n\n<div 0in="" 0pt="" style="margin:"><span 000080="" style="color:"><b><i><span 14pt="" style="font-size:">Guest Speaker</span></i></b><span 14pt="" style="font-size:"> &ndash\;&nbsp\;<a href="http://www.knoxnews.com/news/2012/dec/23/unconventional-entrepreneur-michael-carroll-is/" target="_blank"><strong>Michael Carroll</strong></a></span><br />\n&nbsp\;</span></div>\n\n<div 0in="" 0pt="" align="left" style="margin:"><span 000080="" style="color:"><b><font size="6"><span 14pt="" style="font-size:">Tuesday\, January 29\, 2013~The Square Room on Historic Market Square<br />\nFree Parking after 6 PM at Market Sq. Garage\, 406 Walnut St.</span></font></b></span></div>\n\n<div 0in="" 0pt="" style="margin:"><span 000080="" style="color:"><span 14pt="" style="font-size:">6:00 p.m.-Reception</span></span></div>\n\n<div 0in="" 0pt="" style="margin:"><span 000080="" style="color:"><span 14pt="" style="font-size:">6:30 p.m.-Dinner</span></span></div>\n\n<div 0in="" 0pt="" style="margin:"><span 000080="" style="color:"><span 14pt="" style="font-size:">$35.00 per person</span></span></div>\n\n<div 0in="" 0pt="" style="margin:"><span 000080="" style="color:"><span 14pt="" style="font-size:">(Includes Dinner with Cash Bar)</span></span></div>\n\n<div 0in="" 0pt="" style="margin:"><b>&nbsp\;</b></div>\n\n<div 0in="" 0pt="" style="margin:"><b><span 14pt="" font-size:="" style="color:">Special dietary requests and cancellations must be made by Friday\, 01/25/13</span></b></div>\n\n<div 0in="" 0pt="" align="left" style="margin:"><span 000080="" style="color:"><b><font size="4"><span 14pt="" style="font-size:">Reservations and cancellations due by noon\, Friday\, January 25\, 2013</span></font></b></span></div>\n\n<div 0in="" 0pt="" style="margin:"><b><span 14pt="" font-size:="" style="color:">Cancellations after Friday\, 01/25/13 and no-shows are still responsible for payment of the reservation</span></b><span 14pt="" font-size:="" style="color:">.</span></div>\n
LOCATION:4 Market Square\, Suite 303C Knoxville\, TN
UID:e.9402.480
SEQUENCE:3
DTSTAMP:20260421T060843Z
URL:http://hbaknoxvilletn.memberzone.com/events/details/1-29-13-annual-meeting-installation-awards-banquet-01-29-2013-480
END:VEVENT

END:VCALENDAR
